FILENAME: O4510911.SWS.1115322.tif
QUADRANGLE_NAME: LONE INDIAN BUTTE
QUADRANT: SW
WEST_LONGITUDE: -109 45 0.00000
EAST_LONGITUDE: -109 41 15.00000
NORTH_LATITUDE: 45 48 45.00000
SOUTH_LATITUDE: 45 45 0.00000
PRODUCTION_DATE: 2000 11 21
RASTER_ORDER: LEFT_RIGHT/TOP_BOTTOM
BAND_ORGANIZATION: SINGLE FILE
BAND_CONTENT: BLACK&WHITE
BAND_CONTENT: UNDEFINED
BAND_CONTENT: UNDEFINED
BITS_PER_PIXEL: 8
SAMPLES_AND_LINES: 5670 7680
HORIZONTAL_DATUM: NAD83
HORIZONTAL_COORDINATE_SYSTEM: UTM
COORDINATE_ZONE: 12
HORIZONTAL_UNITS: METERS
HORIZONTAL_RESOLUTION: 1.00000
SECONDARY_HORIZONTAL_DATUM: NAD27
XY_ORIGIN: 596730.00000 5074380.00000
SECONDARY_XY_ORIGIN: 596790.26100 5074169.79100
NATION: US
STATE: MT
NW_QUAD_CORNER_XY: 597116.60000 5073974.99900
NE_QUAD_CORNER_XY: 601972.40700 5074052.87500
SE_QUAD_CORNERY_XY: 602086.42700 5067109.01100
SW_QUAD_CORNER_XY: 597225.18800 5067031.13000
SECONDARY_NW_QUAD_XY: 597119.51700 5073757.18100
SECONDARY_NE_QUAD_XY: 601975.47100 5073835.05900
SECONDARY_SE_QUAD_XY: 602089.49000 5066891.23900
SECONDARY_SW_QUAD_XY: 597228.10500 5066813.35700
RMSE_XY: 1.35000
IMAGE_SOURCE: BLACK AND WHITE FILM
SOURCE_IMAGE_ID: NAPP 9154 56
SOURCE_IMAGE_DATE: 1997 08 28
SOURCE_IMAGE_ID: NAPP 9160 135
SOURCE_IMAGE_DATE: 1997 09 23
SOURCE_IMAGE_ID: NAPP 9150 171
SOURCE_IMAGE_DATE: 1996 09 11
SOURCE_DEM_DATE: 1981 00 00
AGENCY: WESTERN MAPPING CENTER (WMC)
PRODUCER: ANALYTICAL SURVEYS INC.
PRODUCTION_SYSTEM: ORBIT OR_RECTIFY V.5.2
COMPRESSION: UNDEFINED
STANDARD_VERSION: 1996 12
METADATA_DATE: 2000 12 01
DATA_FILE_SIZE: 43551270
BYTE_COUNT: 5670
