FILENAME: O4510910.NES.1115269.tif
QUADRANGLE_NAME: GREYCLIFF
QUADRANT: NE
WEST_LONGITUDE: -109 48 45.00000
EAST_LONGITUDE: -109 45 0.00000
NORTH_LATITUDE: 45 52 30.00000
SOUTH_LATITUDE: 45 48 45.00000
PRODUCTION_DATE: 2000 11 16
RASTER_ORDER: LEFT_RIGHT/TOP_BOTTOM
BAND_ORGANIZATION: SINGLE FILE
BAND_CONTENT: BLACK&WHITE
BAND_CONTENT: UNDEFINED
BAND_CONTENT: UNDEFINED
BITS_PER_PIXEL: 8
SAMPLES_AND_LINES: 5640 7650
HORIZONTAL_DATUM: NAD83
HORIZONTAL_COORDINATE_SYSTEM: UTM
COORDINATE_ZONE: 12
HORIZONTAL_UNITS: METERS
HORIZONTAL_RESOLUTION: 1.00000
SECONDARY_HORIZONTAL_DATUM: NAD27
XY_ORIGIN: 591780.00000 5081220.00000
SECONDARY_XY_ORIGIN: 591840.11100 5081009.45700
NATION: US
STATE: MT
NW_QUAD_CORNER_XY: 592157.52000 5080844.87000
NE_QUAD_CORNER_XY: 597007.89400 5080918.94100
SE_QUAD_CORNERY_XY: 597116.60000 5073974.99900
SW_QUAD_CORNER_XY: 592260.78900 5073900.92400
SECONDARY_NW_QUAD_XY: 592160.29300 5080627.00500
SECONDARY_NE_QUAD_XY: 597010.81300 5080701.07800
SECONDARY_SE_QUAD_XY: 597119.51700 5073757.18100
SECONDARY_SW_QUAD_XY: 592263.56100 5073683.10300
RMSE_XY: 0.82000
IMAGE_SOURCE: BLACK AND WHITE FILM
SOURCE_IMAGE_ID: NAPP 9150 169
SOURCE_IMAGE_DATE: 1996 09 11
SOURCE_DEM_DATE: 1980 00 00
AGENCY: WESTERN MAPPING CENTER (WMC)
PRODUCER: ANALYTICAL SURVEYS INC.
PRODUCTION_SYSTEM: ORBIT OR_RECTIFY V.5.2
COMPRESSION: UNDEFINED
STANDARD_VERSION: 1996 12
METADATA_DATE: 2000 11 29
DATA_FILE_SIZE: 43151640
BYTE_COUNT: 5640
