FILENAME: O4510905.NWS.1115340.tif
QUADRANGLE_NAME: RUSSELL GULCH
QUADRANT: NW
WEST_LONGITUDE: -109 30 0.00000
EAST_LONGITUDE: -109 26 15.00000
NORTH_LATITUDE: 46 0 0.00000
SOUTH_LATITUDE: 45 56 15.00000
PRODUCTION_DATE: 2000 11 21
RASTER_ORDER: LEFT_RIGHT/TOP_BOTTOM
BAND_ORGANIZATION: SINGLE FILE
BAND_CONTENT: BLACK&WHITE
BAND_CONTENT: UNDEFINED
BAND_CONTENT: UNDEFINED
BITS_PER_PIXEL: 8
SAMPLES_AND_LINES: 5670 7680
HORIZONTAL_DATUM: NAD83
HORIZONTAL_COORDINATE_SYSTEM: UTM
COORDINATE_ZONE: 12
HORIZONTAL_UNITS: METERS
HORIZONTAL_RESOLUTION: 1.00000
SECONDARY_HORIZONTAL_DATUM: NAD27
XY_ORIGIN: 615780.00000 5095560.00000
SECONDARY_XY_ORIGIN: 615840.10200 5095349.05300
NATION: US
STATE: MT
NW_QUAD_CORNER_XY: 616148.02700 5095141.28100
NE_QUAD_CORNER_XY: 620987.48900 5095234.34000
SE_QUAD_CORNERY_XY: 621123.67200 5088290.28300
SW_QUAD_CORNER_XY: 616278.76100 5088197.21800
SECONDARY_NW_QUAD_XY: 616151.53100 5094923.34300
SECONDARY_NE_QUAD_XY: 620991.13900 5095016.40500
SECONDARY_SE_QUAD_XY: 621127.32100 5088072.39000
SECONDARY_SW_QUAD_XY: 616282.26400 5087979.32200
RMSE_XY: 1.06000
IMAGE_SOURCE: BLACK AND WHITE FILM
SOURCE_IMAGE_ID: NAPP 9153 212
SOURCE_IMAGE_DATE: 1997 08 28
SOURCE_IMAGE_ID: NAPP 9153 214
SOURCE_IMAGE_DATE: 1997 08 28
SOURCE_IMAGE_ID: NAPP 9153 168
SOURCE_IMAGE_DATE: 1997 08 28
SOURCE_DEM_DATE: 1955 00 00
AGENCY: WESTERN MAPPING CENTER (WMC)
PRODUCER: ANALYTICAL SURVEYS INC.
PRODUCTION_SYSTEM: ORBIT OR_RECTIFY V.5.2
COMPRESSION: UNDEFINED
STANDARD_VERSION: 1996 12
METADATA_DATE: 2000 11 28
DATA_FILE_SIZE: 43551270
BYTE_COUNT: 5670
