FILENAME: O4510905.SWS.1115342.tif
QUADRANGLE_NAME: RUSSELL GULCH
QUADRANT: SW
WEST_LONGITUDE: -109 30 0.00000
EAST_LONGITUDE: -109 26 15.00000
NORTH_LATITUDE: 45 56 15.00000
SOUTH_LATITUDE: 45 52 30.00000
PRODUCTION_DATE: 2000 11 27
RASTER_ORDER: LEFT_RIGHT/TOP_BOTTOM
BAND_ORGANIZATION: SINGLE FILE
BAND_CONTENT: BLACK&WHITE
BAND_CONTENT: UNDEFINED
BAND_CONTENT: UNDEFINED
BITS_PER_PIXEL: 8
SAMPLES_AND_LINES: 5670 7680
HORIZONTAL_DATUM: NAD83
HORIZONTAL_COORDINATE_SYSTEM: UTM
COORDINATE_ZONE: 12
HORIZONTAL_UNITS: METERS
HORIZONTAL_RESOLUTION: 1.00000
SECONDARY_HORIZONTAL_DATUM: NAD27
XY_ORIGIN: 615900.00000 5088600.00000
SECONDARY_XY_ORIGIN: 615960.09900 5088389.31200
NATION: US
STATE: MT
NW_QUAD_CORNER_XY: 616278.76100 5088197.21800
NE_QUAD_CORNER_XY: 621123.67200 5088290.28300
SE_QUAD_CORNERY_XY: 621259.71000 5081346.29700
SW_QUAD_CORNER_XY: 616409.35500 5081253.22500
SECONDARY_NW_QUAD_XY: 616282.26400 5087979.32200
SECONDARY_NE_QUAD_XY: 621127.32100 5088072.39000
SECONDARY_SE_QUAD_XY: 621263.35900 5081128.44700
SECONDARY_SW_QUAD_XY: 616412.85700 5081035.37300
RMSE_XY: 1.25000
IMAGE_SOURCE: BLACK AND WHITE FILM
SOURCE_IMAGE_ID: NAPP 9153 210
SOURCE_IMAGE_DATE: 1997 08 28
SOURCE_IMAGE_ID: NAPP 9153 168
SOURCE_IMAGE_DATE: 1997 08 28
SOURCE_DEM_DATE: 1955 00 00
AGENCY: WESTERN MAPPING CENTER (WMC)
PRODUCER: ANALYTICAL SURVEYS INC.
PRODUCTION_SYSTEM: ORBIT OR_RECTIFY V.5.2
COMPRESSION: UNDEFINED
STANDARD_VERSION: 1996 12
METADATA_DATE: 2000 11 28
DATA_FILE_SIZE: 43551270
BYTE_COUNT: 5670
