FILENAME: O4510901.SWS.1115256.tif
QUADRANGLE_NAME: OTTER CREEK SCHOOL
QUADRANT: SW
WEST_LONGITUDE: -110 0 0.00000
EAST_LONGITUDE: -109 56 15.00000
NORTH_LATITUDE: 45 56 15.00000
SOUTH_LATITUDE: 45 52 30.00000
PRODUCTION_DATE: 2000 11 14
RASTER_ORDER: LEFT_RIGHT/TOP_BOTTOM
BAND_ORGANIZATION: SINGLE FILE
BAND_CONTENT: BLACK&WHITE
BAND_CONTENT: UNDEFINED
BAND_CONTENT: UNDEFINED
BITS_PER_PIXEL: 8
SAMPLES_AND_LINES: 5640 7650
HORIZONTAL_DATUM: NAD83
HORIZONTAL_COORDINATE_SYSTEM: UTM
COORDINATE_ZONE: 12
HORIZONTAL_UNITS: METERS
HORIZONTAL_RESOLUTION: 1.00000
SECONDARY_HORIZONTAL_DATUM: NAD27
XY_ORIGIN: 577140.00000 5087970.00000
SECONDARY_XY_ORIGIN: 577199.89500 5087759.15200
NATION: US
STATE: MT
NW_QUAD_CORNER_XY: 577519.32800 5087589.48500
NE_QUAD_CORNER_XY: 582364.26900 5087652.15400
SE_QUAD_CORNERY_XY: 582456.76300 5080708.12600
SW_QUAD_CORNER_XY: 577606.38000 5080645.45200
SECONDARY_NW_QUAD_XY: 577521.66300 5087371.57000
SECONDARY_NE_QUAD_XY: 582366.75000 5087434.24100
SECONDARY_SE_QUAD_XY: 582459.24400 5080490.25600
SECONDARY_SW_QUAD_XY: 577608.71500 5080427.58100
RMSE_XY: 2.62000
IMAGE_SOURCE: BLACK AND WHITE FILM
SOURCE_IMAGE_ID: NAPP 9154 147
SOURCE_IMAGE_DATE: 1997 08 28
SOURCE_IMAGE_ID: NAPP 9154 145
SOURCE_IMAGE_DATE: 1997 08 28
SOURCE_IMAGE_ID: NAPP 9150 280
SOURCE_IMAGE_DATE: 1996 09 11
SOURCE_IMAGE_ID: NAPP 9172 9
SOURCE_IMAGE_DATE: 1997 08 23
SOURCE_DEM_DATE: 1981 00 00
AGENCY: WESTERN MAPPING CENTER (WMC)
PRODUCER: ANALYTICAL SURVEYS INC.
PRODUCTION_SYSTEM: ORBIT OR_RECTIFY V.5.2
COMPRESSION: UNDEFINED
STANDARD_VERSION: 1996 12
METADATA_DATE: 2000 11 15
DATA_FILE_SIZE: 43151640
BYTE_COUNT: 5640
