FILENAME: O4511064.SES.831384.tif
QUADRANGLE_NAME: CUTOFF MOUNTAIN
QUADRANT: SE
WEST_LONGITUDE: -110 3 45.00000
EAST_LONGITUDE: -110 0 0.00000
NORTH_LATITUDE: 45 3 45.00000
SOUTH_LATITUDE: 45 0 0.00000
PRODUCTION_DATE: 1998 1 14
RASTER_ORDER: LEFT_RIGHT/TOP_BOTTOM
BAND_ORGANIZATION: SINGLE FILE
BAND_CONTENT: BLACK&WHITE
BAND_CONTENT: UNDEFINED
BAND_CONTENT: UNDEFINED
BITS_PER_PIXEL: 8
SAMPLES_AND_LINES: 5668 7612
HORIZONTAL_DATUM: NAD83
HORIZONTAL_COORDINATE_SYSTEM: UTM
COORDINATE_ZONE: 12
HORIZONTAL_UNITS: METERS
HORIZONTAL_RESOLUTION: 1.00000
SECONDARY_HORIZONTAL_DATUM: NAD27
XY_ORIGIN: 573449.00000 4990680.00000
SECONDARY_XY_ORIGIN: 573509.52200 4990470.20300
NATION: US
NATION: "SCIENCE
STATE: MT
STATE: WY
NW_QUAD_CORNER_XY: 573808.96400 4990320.86600
NE_QUAD_CORNER_XY: 578729.56200 4990379.76500
SE_QUAD_CORNERY_XY: 578815.30300 4983436.76800
SW_QUAD_CORNER_XY: 573889.34600 4983377.86900
SECONDARY_NW_QUAD_XY: 573811.14600 4990103.63200
SECONDARY_NE_QUAD_XY: 578731.88800 4990162.53300
SECONDARY_SE_QUAD_XY: 578817.62900 4983219.59100
SECONDARY_SW_QUAD_XY: 573891.52700 4983160.69100
RMSE_XY: 3.50000
IMAGE_SOURCE: BLACK AND WHITE FILM
SOURCE_IMAGE_ID: NAPP 7829 107
SOURCE_IMAGE_DATE: 1994 09 05
SOURCE_IMAGE_ID: NAPP 7829 108
SOURCE_IMAGE_DATE: 1994 09 05
SOURCE_IMAGE_ID: NAPP 7829 106
SOURCE_IMAGE_DATE: 1994 09 05
SOURCE_IMAGE_ID: NAPP 7829 100
SOURCE_IMAGE_DATE: 1994 09 05
SOURCE_DEM_DATE: 1997 01 01
AGENCY: WESTERN MAPPING CENTER (WMC)
PRODUCER: UNDEFINED
PRODUCTION_SYSTEM: GIS/MAGIC
COMPRESSION: UNDEFINED
STANDARD_VERSION: 1996 12
METADATA_DATE: 1998 01 15
DATA_FILE_SIZE: 43150484
BYTE_COUNT: 5668
