FILENAME: O4511062.SWS.829936.tif
QUADRANGLE_NAME: HUMMINGBIRD PEAK
QUADRANT: SW
WEST_LONGITUDE: -110 22 30.00000
EAST_LONGITUDE: -110 18 45.00000
NORTH_LATITUDE: 45 3 45.00000
SOUTH_LATITUDE: 45 0 0.00000
PRODUCTION_DATE: 1997 12 4
RASTER_ORDER: LEFT_RIGHT/TOP_BOTTOM
BAND_ORGANIZATION: SINGLE FILE
BAND_CONTENT: BLACK&WHITE
BAND_CONTENT: UNDEFINED
BAND_CONTENT: UNDEFINED
BITS_PER_PIXEL: 8
SAMPLES_AND_LINES: 5642 7594
HORIZONTAL_DATUM: NAD83
HORIZONTAL_COORDINATE_SYSTEM: UTM
COORDINATE_ZONE: 12
HORIZONTAL_UNITS: METERS
HORIZONTAL_RESOLUTION: 1.00000
SECONDARY_HORIZONTAL_DATUM: NAD27
XY_ORIGIN: 548845.00000 4990424.00000
SECONDARY_XY_ORIGIN: 548905.69500 4990214.13900
NATION: US
NATION: "SCIENCE
STATE: MT
STATE: WY
NW_QUAD_CORNER_XY: 549205.97700 4990083.37800
NE_QUAD_CORNER_XY: 554126.57400 4990123.27500
SE_QUAD_CORNERY_XY: 554185.51800 4983180.27900
SW_QUAD_CORNER_XY: 549259.56200 4983140.38200
SECONDARY_NW_QUAD_XY: 549207.43100 4989866.13700
SECONDARY_NE_QUAD_XY: 554128.17400 4989906.03600
SECONDARY_SE_QUAD_XY: 554187.11800 4982963.09500
SECONDARY_SW_QUAD_XY: 549261.01600 4982923.19600
RMSE_XY: 3.40000
IMAGE_SOURCE: BLACK AND WHITE FILM
SOURCE_IMAGE_ID: NAPP 7824 077
SOURCE_IMAGE_DATE: 1994 08 25
SOURCE_IMAGE_ID: NAPP 7824 076
SOURCE_IMAGE_DATE: 1994 08 25
SOURCE_DEM_DATE: 1997 01 01
AGENCY: WESTERN MAPPING CENTER (WMC)
PRODUCER: UNDEFINED
PRODUCTION_SYSTEM: GIS/MAGIC
COMPRESSION: UNDEFINED
STANDARD_VERSION: 1996 12
METADATA_DATE: 1998 01 21
DATA_FILE_SIZE: 42850990
BYTE_COUNT: 5642
