FILENAME: O4511060.NWS.829997.tif
QUADRANGLE_NAME: ASH MOUNTAIN
QUADRANT: NW
WEST_LONGITUDE: -110 37 30.00000
EAST_LONGITUDE: -110 33 45.00000
NORTH_LATITUDE: 45 7 30.00000
SOUTH_LATITUDE: 45 3 45.00000
PRODUCTION_DATE: 1997 12 4
RASTER_ORDER: LEFT_RIGHT/TOP_BOTTOM
BAND_ORGANIZATION: SINGLE FILE
BAND_CONTENT: BLACK&WHITE
BAND_CONTENT: UNDEFINED
BAND_CONTENT: UNDEFINED
BITS_PER_PIXEL: 8
SAMPLES_AND_LINES: 5616 7578
HORIZONTAL_DATUM: NAD83
HORIZONTAL_COORDINATE_SYSTEM: UTM
COORDINATE_ZONE: 12
HORIZONTAL_UNITS: METERS
HORIZONTAL_RESOLUTION: 1.00000
SECONDARY_HORIZONTAL_DATUM: NAD27
XY_ORIGIN: 529130.00000 4997230.00000
SECONDARY_XY_ORIGIN: 529190.87800 4997019.99600
NATION: US
NATION: "SCIENCE
STATE: MT
NW_QUAD_CORNER_XY: 529491.40100 4996904.86000
NE_QUAD_CORNER_XY: 534406.63400 4996929.55800
SE_QUAD_CORNERY_XY: 534444.18400 4989986.48600
SW_QUAD_CORNER_XY: 529523.58600 4989961.78800
SECONDARY_NW_QUAD_XY: 529492.27400 4996687.56200
SECONDARY_NE_QUAD_XY: 534407.65200 4996712.26000
SECONDARY_SE_QUAD_XY: 534445.20200 4989769.24300
SECONDARY_SW_QUAD_XY: 529524.45900 4989744.54400
RMSE_XY: 3.00000
IMAGE_SOURCE: BLACK AND WHITE FILM
SOURCE_IMAGE_ID: NAPP 7830 056
SOURCE_IMAGE_DATE: 1994 09 05
SOURCE_IMAGE_ID: NAPP 7830 053
SOURCE_IMAGE_DATE: 1994 09 05
SOURCE_DEM_DATE: 1997 01 01
AGENCY: WESTERN MAPPING CENTER (WMC)
PRODUCER: UNDEFINED
PRODUCTION_SYSTEM: GIS/MAGIC
COMPRESSION: UNDEFINED
STANDARD_VERSION: 1996 12
METADATA_DATE: 1998 01 21
DATA_FILE_SIZE: 42563664
BYTE_COUNT: 5616
