FILENAME: O4511057.NWS.830047.tif
QUADRANGLE_NAME: SPORTSMAN LAKE
QUADRANT: NW
WEST_LONGITUDE: -111 0 0.00000
EAST_LONGITUDE: -110 56 15.00000
NORTH_LATITUDE: 45 7 30.00000
SOUTH_LATITUDE: 45 3 45.00000
PRODUCTION_DATE: 1997 12 4
RASTER_ORDER: LEFT_RIGHT/TOP_BOTTOM
BAND_ORGANIZATION: SINGLE FILE
BAND_CONTENT: BLACK&WHITE
BAND_CONTENT: UNDEFINED
BAND_CONTENT: UNDEFINED
BITS_PER_PIXEL: 8
SAMPLES_AND_LINES: 5585 7556
HORIZONTAL_DATUM: NAD83
HORIZONTAL_COORDINATE_SYSTEM: UTM
COORDINATE_ZONE: 12
HORIZONTAL_UNITS: METERS
HORIZONTAL_RESOLUTION: 1.00000
SECONDARY_HORIZONTAL_DATUM: NAD27
XY_ORIGIN: 499637.00000 4997139.00000
SECONDARY_XY_ORIGIN: 499698.11500 4996929.35100
NATION: US
NATION: "SCIENCE
STATE: MT
NW_QUAD_CORNER_XY: 500000.00000 4996836.46800
NE_QUAD_CORNER_XY: 504915.23400 4996838.36800
SE_QUAD_CORNERY_XY: 504920.59800 4989895.29600
SW_QUAD_CORNER_XY: 500000.00000 4989893.39600
SECONDARY_NW_QUAD_XY: 500000.00000 4996619.16800
SECONDARY_NE_QUAD_XY: 504915.37900 4996621.06800
SECONDARY_SE_QUAD_XY: 504920.74300 4989678.05000
SECONDARY_SW_QUAD_XY: 500000.00000 4989676.15000
RMSE_XY: 1.40000
IMAGE_SOURCE: BLACK AND WHITE FILM
SOURCE_IMAGE_ID: NAPP 7830 071
SOURCE_IMAGE_DATE: 1994 09 05
SOURCE_IMAGE_ID: NAPP 7831 154
SOURCE_IMAGE_DATE: 1994 09 06
SOURCE_IMAGE_ID: NAPP 7831 158
SOURCE_IMAGE_DATE: 1994 09 06
SOURCE_IMAGE_ID: NAPP 7831 156
SOURCE_IMAGE_DATE: 1994 09 06
SOURCE_IMAGE_ID: NAPP 7830 072
SOURCE_IMAGE_DATE: 1994 09 05
SOURCE_DEM_DATE: 1997 01 01
AGENCY: WESTERN MAPPING CENTER (WMC)
PRODUCER: UNDEFINED
PRODUCTION_SYSTEM: GIS/MAGIC
COMPRESSION: UNDEFINED
STANDARD_VERSION: 1996 12
METADATA_DATE: 1997 12 04
DATA_FILE_SIZE: 42205845
BYTE_COUNT: 5585
