FILENAME: O4511057.SES.830048.tif
QUADRANGLE_NAME: SPORTSMAN LAKE
QUADRANT: SE
WEST_LONGITUDE: -110 56 15.00000
EAST_LONGITUDE: -110 52 30.00000
NORTH_LATITUDE: 45 3 45.00000
SOUTH_LATITUDE: 45 0 0.00000
PRODUCTION_DATE: 1997 12 4
RASTER_ORDER: LEFT_RIGHT/TOP_BOTTOM
BAND_ORGANIZATION: SINGLE FILE
BAND_CONTENT: BLACK&WHITE
BAND_CONTENT: UNDEFINED
BAND_CONTENT: UNDEFINED
BITS_PER_PIXEL: 8
SAMPLES_AND_LINES: 5595 7559
HORIZONTAL_DATUM: NAD83
HORIZONTAL_COORDINATE_SYSTEM: UTM
COORDINATE_ZONE: 12
HORIZONTAL_UNITS: METERS
HORIZONTAL_RESOLUTION: 1.00000
SECONDARY_HORIZONTAL_DATUM: NAD27
XY_ORIGIN: 504558.00000 4990201.00000
SECONDARY_XY_ORIGIN: 504619.12500 4989991.35700
NATION: US
NATION: "SCIENCE
STATE: MT
STATE: WY
NW_QUAD_CORNER_XY: 504920.59800 4989895.29600
NE_QUAD_CORNER_XY: 509841.19500 4989900.99500
SE_QUAD_CORNERY_XY: 509851.91200 4982957.99900
SW_QUAD_CORNER_XY: 504925.95600 4982952.30000
SECONDARY_NW_QUAD_XY: 504920.74300 4989678.05000
SECONDARY_NE_QUAD_XY: 509841.48600 4989683.74900
SECONDARY_SE_QUAD_XY: 509852.20300 4982740.80800
SECONDARY_SW_QUAD_XY: 504926.10100 4982735.10900
RMSE_XY: 2.20000
IMAGE_SOURCE: BLACK AND WHITE FILM
SOURCE_IMAGE_ID: NAPP 7830 073
SOURCE_IMAGE_DATE: 1994 09 05
SOURCE_IMAGE_ID: NAPP 7830 074
SOURCE_IMAGE_DATE: 1994 09 05
SOURCE_IMAGE_ID: NAPP 7830 072
SOURCE_IMAGE_DATE: 1994 09 05
SOURCE_DEM_DATE: 1997 01 01
AGENCY: WESTERN MAPPING CENTER (WMC)
PRODUCER: UNDEFINED
PRODUCTION_SYSTEM: GIS/MAGIC
COMPRESSION: UNDEFINED
STANDARD_VERSION: 1996 12
METADATA_DATE: 1997 12 04
DATA_FILE_SIZE: 42298200
BYTE_COUNT: 5595
