FILENAME: O4511054.NWS.829925.tif
QUADRANGLE_NAME: IRON MOUNTAIN
QUADRANT: NW
WEST_LONGITUDE: -110 22 30.00000
EAST_LONGITUDE: -110 18 45.00000
NORTH_LATITUDE: 45 15 0.00000
SOUTH_LATITUDE: 45 11 15.00000
PRODUCTION_DATE: 1997 12 4
RASTER_ORDER: LEFT_RIGHT/TOP_BOTTOM
BAND_ORGANIZATION: SINGLE FILE
BAND_CONTENT: BLACK&WHITE
BAND_CONTENT: UNDEFINED
BAND_CONTENT: UNDEFINED
BITS_PER_PIXEL: 8
SAMPLES_AND_LINES: 5626 7593
HORIZONTAL_DATUM: NAD83
HORIZONTAL_COORDINATE_SYSTEM: UTM
COORDINATE_ZONE: 12
HORIZONTAL_UNITS: METERS
HORIZONTAL_RESOLUTION: 1.00000
SECONDARY_HORIZONTAL_DATUM: NAD27
XY_ORIGIN: 548684.00000 5011253.00000
SECONDARY_XY_ORIGIN: 548744.46400 5011042.96100
NATION: US
NATION: "SCIENCE
STATE: MT
NW_QUAD_CORNER_XY: 549044.86800 5010912.81900
NE_QUAD_CORNER_XY: 553949.35400 5010952.71500
SE_QUAD_CORNERY_XY: 554008.49200 5004009.49300
SW_QUAD_CORNER_XY: 549098.63000 5003969.59600
SECONDARY_NW_QUAD_XY: 549046.32400 5010695.41800
SECONDARY_NE_QUAD_XY: 553950.95500 5010735.31500
SECONDARY_SE_QUAD_XY: 554010.09300 5003792.14600
SECONDARY_SW_QUAD_XY: 549100.08500 5003752.24800
RMSE_XY: 3.60000
IMAGE_SOURCE: BLACK AND WHITE FILM
SOURCE_IMAGE_ID: NAPP 3857 288
SOURCE_IMAGE_DATE: 1991 08 30
SOURCE_IMAGE_ID: NAPP 3857 289
SOURCE_IMAGE_DATE: 1991 08 30
SOURCE_IMAGE_ID: NAPP 3857 287
SOURCE_IMAGE_DATE: 1991 08 30
SOURCE_IMAGE_ID: NAPP 3857 261
SOURCE_IMAGE_DATE: 1991 08 30
SOURCE_DEM_DATE: 1997 01 01
AGENCY: WESTERN MAPPING CENTER (WMC)
PRODUCER: UNDEFINED
PRODUCTION_SYSTEM: GIS/MAGIC
COMPRESSION: UNDEFINED
STANDARD_VERSION: 1996 12
METADATA_DATE: 1998 01 21
DATA_FILE_SIZE: 42723844
BYTE_COUNT: 5626
