FILENAME: O4511053.NWS.829953.tif
QUADRANGLE_NAME: MOUNT WALLACE
QUADRANT: NW
WEST_LONGITUDE: -110 30 0.00000
EAST_LONGITUDE: -110 26 15.00000
NORTH_LATITUDE: 45 15 0.00000
SOUTH_LATITUDE: 45 11 15.00000
PRODUCTION_DATE: 1997 12 4
RASTER_ORDER: LEFT_RIGHT/TOP_BOTTOM
BAND_ORGANIZATION: SINGLE FILE
BAND_CONTENT: BLACK&WHITE
BAND_CONTENT: UNDEFINED
BAND_CONTENT: UNDEFINED
BITS_PER_PIXEL: 8
SAMPLES_AND_LINES: 5615 7586
HORIZONTAL_DATUM: NAD83
HORIZONTAL_COORDINATE_SYSTEM: UTM
COORDINATE_ZONE: 12
HORIZONTAL_UNITS: METERS
HORIZONTAL_RESOLUTION: 1.00000
SECONDARY_HORIZONTAL_DATUM: NAD27
XY_ORIGIN: 538875.00000 5011177.00000
SECONDARY_XY_ORIGIN: 538935.59200 5010966.87900
NATION: US
NATION: "SCIENCE
STATE: MT
NW_QUAD_CORNER_XY: 539235.89700 5010844.42600
NE_QUAD_CORNER_XY: 544140.38300 5010876.72200
SE_QUAD_CORNERY_XY: 544188.76800 5003933.50000
SW_QUAD_CORNER_XY: 539278.90500 5003901.20300
SECONDARY_NW_QUAD_XY: 539237.06100 5010627.02300
SECONDARY_NE_QUAD_XY: 544141.69300 5010659.32100
SECONDARY_SE_QUAD_XY: 544190.07700 5003716.15000
SECONDARY_SW_QUAD_XY: 539280.06900 5003683.85300
RMSE_XY: 4.90000
IMAGE_SOURCE: BLACK AND WHITE FILM
SOURCE_IMAGE_ID: NAPP 3858 015
SOURCE_IMAGE_DATE: 1991 08 30
SOURCE_IMAGE_ID: NAPP 3860 017
SOURCE_IMAGE_DATE: 1991 09 03
SOURCE_IMAGE_ID: NAPP 3860 018
SOURCE_IMAGE_DATE: 1991 09 03
SOURCE_IMAGE_ID: NAPP 3858 044
SOURCE_IMAGE_DATE: 1991 08 30
SOURCE_IMAGE_ID: NAPP 3858 042
SOURCE_IMAGE_DATE: 1991 08 30
SOURCE_DEM_DATE: 1997 01 01
AGENCY: WESTERN MAPPING CENTER (WMC)
PRODUCER: UNDEFINED
PRODUCTION_SYSTEM: GIS/MAGIC
COMPRESSION: UNDEFINED
STANDARD_VERSION: 1996 12
METADATA_DATE: 1998 01 21
DATA_FILE_SIZE: 42601005
BYTE_COUNT: 5615
