FILENAME: O4511050.SES.830020.tif
QUADRANGLE_NAME: DOME MOUNTAIN
QUADRANT: SE
WEST_LONGITUDE: -110 48 45.00000
EAST_LONGITUDE: -110 45 0.00000
NORTH_LATITUDE: 45 11 15.00000
SOUTH_LATITUDE: 45 7 30.00000
PRODUCTION_DATE: 1997 12 4
RASTER_ORDER: LEFT_RIGHT/TOP_BOTTOM
BAND_ORGANIZATION: SINGLE FILE
BAND_CONTENT: BLACK&WHITE
BAND_CONTENT: UNDEFINED
BAND_CONTENT: UNDEFINED
BITS_PER_PIXEL: 8
SAMPLES_AND_LINES: 5594 7567
HORIZONTAL_DATUM: NAD83
HORIZONTAL_COORDINATE_SYSTEM: UTM
COORDINATE_ZONE: 12
HORIZONTAL_UNITS: METERS
HORIZONTAL_RESOLUTION: 1.00000
SECONDARY_HORIZONTAL_DATUM: NAD27
XY_ORIGIN: 514368.00000 5004111.00000
SECONDARY_XY_ORIGIN: 514429.02100 5003900.95500
NATION: US
NATION: "SCIENCE
STATE: MT
NW_QUAD_CORNER_XY: 514729.59000 5003796.71500
NE_QUAD_CORNER_XY: 519639.45400 5003810.01300
SE_QUAD_CORNERY_XY: 519660.93400 4996866.86500
SW_QUAD_CORNER_XY: 514745.70100 4996853.56600
SECONDARY_NW_QUAD_XY: 514730.02700 5003579.36100
SECONDARY_NE_QUAD_XY: 519640.03600 5003592.66000
SECONDARY_SE_QUAD_XY: 519661.51600 4996649.56500
SECONDARY_SW_QUAD_XY: 514746.13700 4996636.26600
RMSE_XY: 0.90000
IMAGE_SOURCE: BLACK AND WHITE FILM
SOURCE_IMAGE_ID: NAPP 3859 143
SOURCE_IMAGE_DATE: 1991 09 03
SOURCE_IMAGE_ID: NAPP 7817 082
SOURCE_IMAGE_DATE: 1994 06 27
SOURCE_IMAGE_ID: NAPP 3859 142
SOURCE_IMAGE_DATE: 1991 09 03
SOURCE_DEM_DATE: 1997 01 01
AGENCY: WESTERN MAPPING CENTER (WMC)
PRODUCER: UNDEFINED
PRODUCTION_SYSTEM: GIS/MAGIC
COMPRESSION: UNDEFINED
STANDARD_VERSION: 1996 12
METADATA_DATE: 1997 12 04
DATA_FILE_SIZE: 42335392
BYTE_COUNT: 5594
