FILENAME: O4511049.NES.830034.tif
QUADRANGLE_NAME: MINER
QUADRANT: NE
WEST_LONGITUDE: -110 56 15.00000
EAST_LONGITUDE: -110 52 30.00000
NORTH_LATITUDE: 45 15 0.00000
SOUTH_LATITUDE: 45 11 15.00000
PRODUCTION_DATE: 1997 12 4
RASTER_ORDER: LEFT_RIGHT/TOP_BOTTOM
BAND_ORGANIZATION: SINGLE FILE
BAND_CONTENT: BLACK&WHITE
BAND_CONTENT: UNDEFINED
BAND_CONTENT: UNDEFINED
BITS_PER_PIXEL: 8
SAMPLES_AND_LINES: 5579 7559
HORIZONTAL_DATUM: NAD83
HORIZONTAL_COORDINATE_SYSTEM: UTM
COORDINATE_ZONE: 12
HORIZONTAL_UNITS: METERS
HORIZONTAL_RESOLUTION: 1.00000
SECONDARY_HORIZONTAL_DATUM: NAD27
XY_ORIGIN: 504542.00000 5011031.00000
SECONDARY_XY_ORIGIN: 504603.02700 5010821.05500
NATION: US
NATION: "SCIENCE
STATE: MT
NW_QUAD_CORNER_XY: 504904.48800 5010724.74100
NE_QUAD_CORNER_XY: 509808.97500 5010730.44000
SE_QUAD_CORNERY_XY: 509819.72700 5003787.21600
SW_QUAD_CORNER_XY: 504909.86300 5003781.51600
SECONDARY_NW_QUAD_XY: 504904.63300 5010507.33500
SECONDARY_NE_QUAD_XY: 509809.26600 5010513.03400
SECONDARY_SE_QUAD_XY: 509820.01800 5003569.86200
SECONDARY_SW_QUAD_XY: 504910.00900 5003564.16300
RMSE_XY: 2.10000
IMAGE_SOURCE: BLACK AND WHITE FILM
SOURCE_IMAGE_ID: NAPP 3859 085
SOURCE_IMAGE_DATE: 1991 09 03
SOURCE_IMAGE_ID: NAPP 3859 084
SOURCE_IMAGE_DATE: 1991 09 03
SOURCE_DEM_DATE: 1997 01 01
AGENCY: WESTERN MAPPING CENTER (WMC)
PRODUCER: UNDEFINED
PRODUCTION_SYSTEM: GIS/MAGIC
COMPRESSION: UNDEFINED
STANDARD_VERSION: 1996 12
METADATA_DATE: 1997 12 04
DATA_FILE_SIZE: 42177240
BYTE_COUNT: 5579
