FILENAME: O4511048.SWS.1145760.tif
QUADRANGLE_NAME: TUMBLE MOUNTAIN
QUADRANT: SW
WEST_LONGITUDE: -110 7 30.00000
EAST_LONGITUDE: -110 3 45.00000
NORTH_LATITUDE: 45 18 45.00000
SOUTH_LATITUDE: 45 15 0.00000
PRODUCTION_DATE: 2001 04 06
RASTER_ORDER: LEFT_RIGHT/TOP_BOTTOM
BAND_ORGANIZATION: SINGLE FILE
BAND_CONTENT: BLACK&WHITE
BAND_CONTENT: UNDEFINED
BAND_CONTENT: UNDEFINED
BITS_PER_PIXEL: 8
SAMPLES_AND_LINES: 5670 7620
HORIZONTAL_DATUM: NAD83
HORIZONTAL_COORDINATE_SYSTEM: UTM
COORDINATE_ZONE: 12
HORIZONTAL_UNITS: METERS
HORIZONTAL_RESOLUTION: 1.00000
SECONDARY_HORIZONTAL_DATUM: NAD27
XY_ORIGIN: 568200.00000 5018400.00000
SECONDARY_XY_ORIGIN: 568260.21000 5018190.04100
NATION: US
STATE: MT
NW_QUAD_CORNER_XY: 568587.45500 5018038.49800
NE_QUAD_CORNER_XY: 573486.55500 5018093.59400
SE_QUAD_CORNERY_XY: 573567.29000 5011150.30100
SW_QUAD_CORNER_XY: 568662.80600 5011095.20400
SECONDARY_NW_QUAD_XY: 568589.49300 5017821.05100
SECONDARY_NE_QUAD_XY: 573488.73900 5017876.14900
SECONDARY_SE_QUAD_XY: 573569.47300 5010932.90700
SECONDARY_SW_QUAD_XY: 568664.84400 5010877.80900
RMSE_XY: 3.47000
IMAGE_SOURCE: BLACK AND WHITE FILM
SOURCE_IMAGE_ID: NAPP 9185 40
SOURCE_IMAGE_DATE: 1998 07 20
SOURCE_IMAGE_ID: NAPP 9185 17
SOURCE_IMAGE_DATE: 1998 07 20
SOURCE_IMAGE_ID: NAPP 9185 63
SOURCE_IMAGE_DATE: 1998 07 20
SOURCE_IMAGE_ID: NAPP 9185 38
SOURCE_IMAGE_DATE: 1998 07 20
SOURCE_DEM_DATE: 2001 01 01
AGENCY: WESTERN MAPPING CENTER (WMC)
PRODUCER: ANALYTICAL SURVEYS INC.
PRODUCTION_SYSTEM: ORBIT OR_RECTIFY V.5.2
COMPRESSION: UNDEFINED
STANDARD_VERSION: 1996 12
METADATA_DATE: 2001 05 07
DATA_FILE_SIZE: 43211070
BYTE_COUNT: 5670
