FILENAME: O4511047.SWS.1145724.tif
QUADRANGLE_NAME: MOUNT DOUGLAS
QUADRANT: SW
WEST_LONGITUDE: -110 15 0.00000
EAST_LONGITUDE: -110 11 15.00000
NORTH_LATITUDE: 45 18 45.00000
SOUTH_LATITUDE: 45 15 0.00000
PRODUCTION_DATE: 2001 03 26
RASTER_ORDER: LEFT_RIGHT/TOP_BOTTOM
BAND_ORGANIZATION: SINGLE FILE
BAND_CONTENT: BLACK&WHITE
BAND_CONTENT: UNDEFINED
BAND_CONTENT: UNDEFINED
BITS_PER_PIXEL: 8
SAMPLES_AND_LINES: 5640 7650
HORIZONTAL_DATUM: NAD83
HORIZONTAL_COORDINATE_SYSTEM: UTM
COORDINATE_ZONE: 12
HORIZONTAL_UNITS: METERS
HORIZONTAL_RESOLUTION: 1.00000
SECONDARY_HORIZONTAL_DATUM: NAD27
XY_ORIGIN: 558420.00000 5018310.00000
SECONDARY_XY_ORIGIN: 558480.24700 5018100.01800
NATION: US
STATE: MT
NW_QUAD_CORNER_XY: 558789.25300 5017939.70700
NE_QUAD_CORNER_XY: 563688.35400 5017987.20300
SE_QUAD_CORNERY_XY: 563758.32300 5011043.90700
SW_QUAD_CORNER_XY: 558853.83800 5010996.41100
SECONDARY_NW_QUAD_XY: 558791.00000 5017722.25700
SECONDARY_NE_QUAD_XY: 563690.24700 5017769.75400
SECONDARY_SE_QUAD_XY: 563760.21500 5010826.51100
SECONDARY_SW_QUAD_XY: 558855.58500 5010779.01300
RMSE_XY: 3.57000
IMAGE_SOURCE: BLACK AND WHITE FILM
SOURCE_IMAGE_ID: NAPP 9185 101
SOURCE_IMAGE_DATE: 1998 07 20
SOURCE_IMAGE_ID: NAPP 9185 99
SOURCE_IMAGE_DATE: 1998 07 20
SOURCE_IMAGE_ID: NAPP 9185 63
SOURCE_IMAGE_DATE: 1998 07 20
SOURCE_DEM_DATE: 1981 00 00
AGENCY: WESTERN MAPPING CENTER (WMC)
PRODUCER: ANALYTICAL SURVEYS INC.
PRODUCTION_SYSTEM: ORBIT OR_RECTIFY V.5.2
COMPRESSION: UNDEFINED
STANDARD_VERSION: 1996 12
METADATA_DATE: 2001 03 28
DATA_FILE_SIZE: 43151640
BYTE_COUNT: 5640
