FILENAME: O4511044.SES.1114235.tif
QUADRANGLE_NAME: KNOWLES PEAK
QUADRANT: SE
WEST_LONGITUDE: -110 33 45.00000
EAST_LONGITUDE: -110 30 0.00000
NORTH_LATITUDE: 45 18 45.00000
SOUTH_LATITUDE: 45 15 0.00000
PRODUCTION_DATE: 2000 10 20
RASTER_ORDER: LEFT_RIGHT/TOP_BOTTOM
BAND_ORGANIZATION: SINGLE FILE
BAND_CONTENT: BLACK&WHITE
BAND_CONTENT: UNDEFINED
BAND_CONTENT: UNDEFINED
BITS_PER_PIXEL: 8
SAMPLES_AND_LINES: 5640 7620
HORIZONTAL_DATUM: NAD83
HORIZONTAL_COORDINATE_SYSTEM: UTM
COORDINATE_ZONE: 12
HORIZONTAL_UNITS: METERS
HORIZONTAL_RESOLUTION: 1.00000
SECONDARY_HORIZONTAL_DATUM: NAD27
XY_ORIGIN: 533910.00000 5018100.00000
SECONDARY_XY_ORIGIN: 533970.62600 5017889.81500
NATION: US
STATE: MT
NW_QUAD_CORNER_XY: 534293.73700 5017759.22900
NE_QUAD_CORNER_XY: 539192.84100 5017787.72500
SE_QUAD_CORNERY_XY: 539235.89700 5010844.42600
SW_QUAD_CORNER_XY: 534331.41000 5010815.93000
SECONDARY_NW_QUAD_XY: 534294.75600 5017541.77400
SECONDARY_NE_QUAD_XY: 539194.00600 5017570.27100
SECONDARY_SE_QUAD_XY: 539237.06100 5010627.02300
SECONDARY_SW_QUAD_XY: 534332.42900 5010598.52600
RMSE_XY: 3.04000
IMAGE_SOURCE: BLACK AND WHITE FILM
SOURCE_IMAGE_ID: NAPP 11017 60
SOURCE_IMAGE_DATE: 1998 08 27
SOURCE_DEM_DATE: 1983 00 00
AGENCY: WESTERN MAPPING CENTER (WMC)
PRODUCER: ANALYTICAL SURVEYS INC.
PRODUCTION_SYSTEM: ORBIT OR_RECTIFY V.5.2
COMPRESSION: UNDEFINED
STANDARD_VERSION: 1996 12
METADATA_DATE: 2000 10 30
DATA_FILE_SIZE: 42982440
BYTE_COUNT: 5640
