FILENAME: O4511044.SWS.1114236.tif
QUADRANGLE_NAME: KNOWLES PEAK
QUADRANT: SW
WEST_LONGITUDE: -110 37 30.00000
EAST_LONGITUDE: -110 33 45.00000
NORTH_LATITUDE: 45 18 45.00000
SOUTH_LATITUDE: 45 15 0.00000
PRODUCTION_DATE: 2000 10 20
RASTER_ORDER: LEFT_RIGHT/TOP_BOTTOM
BAND_ORGANIZATION: SINGLE FILE
BAND_CONTENT: BLACK&WHITE
BAND_CONTENT: UNDEFINED
BAND_CONTENT: UNDEFINED
BITS_PER_PIXEL: 8
SAMPLES_AND_LINES: 5640 7590
HORIZONTAL_DATUM: NAD83
HORIZONTAL_COORDINATE_SYSTEM: UTM
COORDINATE_ZONE: 12
HORIZONTAL_UNITS: METERS
HORIZONTAL_RESOLUTION: 1.00000
SECONDARY_HORIZONTAL_DATUM: NAD27
XY_ORIGIN: 529020.00000 5018070.00000
SECONDARY_XY_ORIGIN: 529080.72200 5017859.79500
NATION: US
STATE: MT
NW_QUAD_CORNER_XY: 529394.63200 5017734.53300
NE_QUAD_CORNER_XY: 534293.73700 5017759.22900
SE_QUAD_CORNERY_XY: 534331.41000 5010815.93000
SW_QUAD_CORNER_XY: 529426.92400 5010791.23300
SECONDARY_NW_QUAD_XY: 529395.50600 5017517.07700
SECONDARY_NE_QUAD_XY: 534294.75600 5017541.77400
SECONDARY_SE_QUAD_XY: 534332.42900 5010598.52600
SECONDARY_SW_QUAD_XY: 529427.79700 5010573.82800
RMSE_XY: 4.84000
IMAGE_SOURCE: BLACK AND WHITE FILM
SOURCE_IMAGE_ID: NAPP 11007 19
SOURCE_IMAGE_DATE: 1998 07 21
SOURCE_IMAGE_ID: NAPP 11007 26
SOURCE_IMAGE_DATE: 1998 07 21
SOURCE_DEM_DATE: 1983 00 00
AGENCY: WESTERN MAPPING CENTER (WMC)
PRODUCER: ANALYTICAL SURVEYS INC.
PRODUCTION_SYSTEM: ORBIT OR_RECTIFY V.5.2
COMPRESSION: UNDEFINED
STANDARD_VERSION: 1996 12
METADATA_DATE: 2000 10 31
DATA_FILE_SIZE: 42813240
BYTE_COUNT: 5640
