FILENAME: O4511043.SWS.1114232.tif
QUADRANGLE_NAME: EMIGRANT
QUADRANT: SW
WEST_LONGITUDE: -110 45 0.00000
EAST_LONGITUDE: -110 41 15.00000
NORTH_LATITUDE: 45 18 45.00000
SOUTH_LATITUDE: 45 15 0.00000
PRODUCTION_DATE: 2000 10 20
RASTER_ORDER: LEFT_RIGHT/TOP_BOTTOM
BAND_ORGANIZATION: SINGLE FILE
BAND_CONTENT: BLACK&WHITE
BAND_CONTENT: UNDEFINED
BAND_CONTENT: UNDEFINED
BITS_PER_PIXEL: 8
SAMPLES_AND_LINES: 5640 7620
HORIZONTAL_DATUM: NAD83
HORIZONTAL_COORDINATE_SYSTEM: UTM
COORDINATE_ZONE: 12
HORIZONTAL_UNITS: METERS
HORIZONTAL_RESOLUTION: 1.00000
SECONDARY_HORIZONTAL_DATUM: NAD27
XY_ORIGIN: 519210.00000 5018040.00000
SECONDARY_XY_ORIGIN: 519270.91400 5017829.75300
NATION: US
STATE: MT
NW_QUAD_CORNER_XY: 519596.42200 5017696.53800
NE_QUAD_CORNER_XY: 524495.52700 5017713.63600
SE_QUAD_CORNERY_XY: 524522.43700 5010770.33500
SW_QUAD_CORNER_XY: 519617.95000 5010753.23800
SECONDARY_NW_QUAD_XY: 519597.00500 5017479.08100
SECONDARY_NE_QUAD_XY: 524496.25500 5017496.17900
SECONDARY_SE_QUAD_XY: 524523.16500 5010552.93000
SECONDARY_SW_QUAD_XY: 519618.53200 5010535.83200
RMSE_XY: 2.95000
IMAGE_SOURCE: BLACK AND WHITE FILM
SOURCE_IMAGE_ID: NAPP 11007 49
SOURCE_IMAGE_DATE: 1998 07 21
SOURCE_IMAGE_ID: NAPP 11007 26
SOURCE_IMAGE_DATE: 1998 07 21
SOURCE_IMAGE_ID: NAPP 11007 51
SOURCE_IMAGE_DATE: 1998 07 21
SOURCE_DEM_DATE: 1983 00 00
AGENCY: WESTERN MAPPING CENTER (WMC)
PRODUCER: ANALYTICAL SURVEYS INC.
PRODUCTION_SYSTEM: ORBIT OR_RECTIFY V.5.2
COMPRESSION: UNDEFINED
STANDARD_VERSION: 1996 12
METADATA_DATE: 2000 10 31
DATA_FILE_SIZE: 42982440
BYTE_COUNT: 5640
