FILENAME: O4511042.NES.1004312.tif
QUADRANGLE_NAME: DAILEY LAKE
QUADRANT: NE
WEST_LONGITUDE: -110 48 45.00000
EAST_LONGITUDE: -110 45 0.00000
NORTH_LATITUDE: 45 22 30.00000
SOUTH_LATITUDE: 45 18 45.00000
PRODUCTION_DATE: 1999 5 10
RASTER_ORDER: LEFT_RIGHT/TOP_BOTTOM
BAND_ORGANIZATION: SINGLE FILE
BAND_CONTENT: BLACK&WHITE
BAND_CONTENT: UNDEFINED
BAND_CONTENT: UNDEFINED
BITS_PER_PIXEL: 8
SAMPLES_AND_LINES: 5576 7567
HORIZONTAL_DATUM: NAD83
HORIZONTAL_COORDINATE_SYSTEM: UTM
COORDINATE_ZONE: 12
HORIZONTAL_UNITS: METERS
HORIZONTAL_RESOLUTION: 1.00000
SECONDARY_HORIZONTAL_DATUM: NAD27
XY_ORIGIN: 514320.00000 5024941.00000
SECONDARY_XY_ORIGIN: 514380.86000 5024730.86600
NATION: US
STATE: MT
NW_QUAD_CORNER_XY: 514681.15400 5024626.61800
NE_QUAD_CORNER_XY: 519574.87100 5024639.91500
SE_QUAD_CORNERY_XY: 519596.42200 5017696.53800
SW_QUAD_CORNER_XY: 514697.31700 5017683.24100
SECONDARY_NW_QUAD_XY: 514681.59100 5024409.10900
SECONDARY_NE_QUAD_XY: 519575.45400 5024422.40700
SECONDARY_SE_QUAD_XY: 519597.00500 5017479.08100
SECONDARY_SW_QUAD_XY: 514697.75400 5017465.78300
RMSE_XY: 2.10000
IMAGE_SOURCE: BLACK AND WHITE FILM
SOURCE_IMAGE_ID: NAPP 11006 118
SOURCE_IMAGE_DATE: 1998 7 21
SOURCE_DEM_DATE: 1999 5 10
AGENCY: WESTERN MAPPING CENTER (WMC)
PRODUCER: WESTERN MAPPING CENTER (WMC)
PRODUCTION_SYSTEM: DV2.6.3 10/9OV2.4 5/95
COMPRESSION: UNDEFINED
STANDARD_VERSION: 1996 12
METADATA_DATE: 1999 5 11
DATA_FILE_SIZE: 42199168
BYTE_COUNT: 5576
