FILENAME: O4511041.NWS.1004309.tif
QUADRANGLE_NAME: LEWIS CREEK
QUADRANT: NW
WEST_LONGITUDE: -111 0 0.00000
EAST_LONGITUDE: -110 56 15.00000
NORTH_LATITUDE: 45 22 30.00000
SOUTH_LATITUDE: 45 18 45.00000
PRODUCTION_DATE: 1999 5 10
RASTER_ORDER: LEFT_RIGHT/TOP_BOTTOM
BAND_ORGANIZATION: SINGLE FILE
BAND_CONTENT: BLACK&WHITE
BAND_CONTENT: UNDEFINED
BAND_CONTENT: UNDEFINED
BITS_PER_PIXEL: 8
SAMPLES_AND_LINES: 5561 7556
HORIZONTAL_DATUM: NAD83
HORIZONTAL_COORDINATE_SYSTEM: UTM
COORDINATE_ZONE: 12
HORIZONTAL_UNITS: METERS
HORIZONTAL_RESOLUTION: 1.00000
SECONDARY_HORIZONTAL_DATUM: NAD27
XY_ORIGIN: 499638.00000 5024912.00000
SECONDARY_XY_ORIGIN: 499698.91200 5024702.11600
NATION: US
STATE: MT
NW_QUAD_CORNER_XY: 500000.00000 5024609.52100
NE_QUAD_CORNER_XY: 504893.71800 5024611.42000
SE_QUAD_CORNERY_XY: 504899.10600 5017668.04300
SW_QUAD_CORNER_XY: 500000.00000 5017666.14300
SECONDARY_NW_QUAD_XY: 500000.00000 5024392.01200
SECONDARY_NE_QUAD_XY: 504893.86400 5024393.91100
SECONDARY_SE_QUAD_XY: 504899.25100 5017450.58500
SECONDARY_SW_QUAD_XY: 500000.00000 5017448.68500
RMSE_XY: 2.20000
IMAGE_SOURCE: BLACK AND WHITE FILM
SOURCE_IMAGE_ID: NAPP 3859 109
SOURCE_IMAGE_DATE: 1991 3 9
SOURCE_IMAGE_ID: NAPP 3859 108
SOURCE_IMAGE_DATE: 1991 3 9
SOURCE_DEM_DATE: 1999 5 10
AGENCY: WESTERN MAPPING CENTER (WMC)
PRODUCER: WESTERN MAPPING CENTER (WMC)
PRODUCTION_SYSTEM: DV2.6.3 10/9OV2.4 5/95
COMPRESSION: UNDEFINED
STANDARD_VERSION: 1996 12
METADATA_DATE: 1999 5 11
DATA_FILE_SIZE: 42024477
BYTE_COUNT: 5561
