FILENAME: O4511040.NES.1145709.tif
QUADRANGLE_NAME: PICKET PIN MOUNTAIN
QUADRANT: NE
WEST_LONGITUDE: -110 3 45.00000
EAST_LONGITUDE: -110 0 0.00000
NORTH_LATITUDE: 45 30 0.00000
SOUTH_LATITUDE: 45 26 15.00000
PRODUCTION_DATE: 2001 04 04
RASTER_ORDER: LEFT_RIGHT/TOP_BOTTOM
BAND_ORGANIZATION: SINGLE FILE
BAND_CONTENT: BLACK&WHITE
BAND_CONTENT: UNDEFINED
BAND_CONTENT: UNDEFINED
BITS_PER_PIXEL: 8
SAMPLES_AND_LINES: 5640 7650
HORIZONTAL_DATUM: NAD83
HORIZONTAL_COORDINATE_SYSTEM: UTM
COORDINATE_ZONE: 12
HORIZONTAL_UNITS: METERS
HORIZONTAL_RESOLUTION: 1.00000
SECONDARY_HORIZONTAL_DATUM: NAD27
XY_ORIGIN: 572880.00000 5039310.00000
SECONDARY_XY_ORIGIN: 572939.95900 5039100.04300
NATION: US
STATE: MT
NW_QUAD_CORNER_XY: 573243.82400 5038923.92100
NE_QUAD_CORNER_XY: 578126.73800 5038982.81200
SE_QUAD_CORNERY_XY: 578213.13700 5032039.29800
SW_QUAD_CORNER_XY: 573324.82200 5031980.40400
SECONDARY_NW_QUAD_XY: 573246.00900 5038706.32500
SECONDARY_NE_QUAD_XY: 578129.06900 5038765.21800
SECONDARY_SE_QUAD_XY: 578215.46800 5031821.75300
SECONDARY_SW_QUAD_XY: 573327.00700 5031762.85800
RMSE_XY: 3.89000
IMAGE_SOURCE: BLACK AND WHITE FILM
SOURCE_IMAGE_ID: NAPP 9185 23
SOURCE_IMAGE_DATE: 1998 07 20
SOURCE_IMAGE_ID: NAPP 9185 21
SOURCE_IMAGE_DATE: 1998 07 20
SOURCE_IMAGE_ID: NAPP 9185 34
SOURCE_IMAGE_DATE: 1998 07 20
SOURCE_DEM_DATE: 1993 00 00
AGENCY: WESTERN MAPPING CENTER (WMC)
PRODUCER: ANALYTICAL SURVEYS INC.
PRODUCTION_SYSTEM: ORBIT OR_RECTIFY V.5.2
COMPRESSION: UNDEFINED
STANDARD_VERSION: 1996 12
METADATA_DATE: 2001 04 06
DATA_FILE_SIZE: 43151640
BYTE_COUNT: 5640
