FILENAME: O4511040.SWS.1145712.tif
QUADRANGLE_NAME: PICKET PIN MOUNTAIN
QUADRANT: SW
WEST_LONGITUDE: -110 7 30.00000
EAST_LONGITUDE: -110 3 45.00000
NORTH_LATITUDE: 45 26 15.00000
SOUTH_LATITUDE: 45 22 30.00000
PRODUCTION_DATE: 2001 04 04
RASTER_ORDER: LEFT_RIGHT/TOP_BOTTOM
BAND_ORGANIZATION: SINGLE FILE
BAND_CONTENT: BLACK&WHITE
BAND_CONTENT: UNDEFINED
BAND_CONTENT: UNDEFINED
BITS_PER_PIXEL: 8
SAMPLES_AND_LINES: 5670 7620
HORIZONTAL_DATUM: NAD83
HORIZONTAL_COORDINATE_SYSTEM: UTM
COORDINATE_ZONE: 12
HORIZONTAL_UNITS: METERS
HORIZONTAL_RESOLUTION: 1.00000
SECONDARY_HORIZONTAL_DATUM: NAD27
XY_ORIGIN: 568050.00000 5032290.00000
SECONDARY_XY_ORIGIN: 568110.04900 5032080.01800
NATION: US
STATE: MT
NW_QUAD_CORNER_XY: 568436.50600 5031925.31100
NE_QUAD_CORNER_XY: 573324.82200 5031980.40400
SE_QUAD_CORNERY_XY: 573405.73200 5025036.96200
SW_QUAD_CORNER_XY: 568512.02200 5024981.86800
SECONDARY_NW_QUAD_XY: 568438.54500 5031707.76300
SECONDARY_NE_QUAD_XY: 573327.00700 5031762.85800
SECONDARY_SE_QUAD_XY: 573407.91700 5024819.46600
SECONDARY_SW_QUAD_XY: 568514.06000 5024764.37000
RMSE_XY: 1.75000
IMAGE_SOURCE: BLACK AND WHITE FILM
SOURCE_IMAGE_ID: NAPP 9185 36
SOURCE_IMAGE_DATE: 1998 07 20
SOURCE_IMAGE_ID: NAPP 9185 34
SOURCE_IMAGE_DATE: 1998 07 20
SOURCE_IMAGE_ID: NAPP 9185 21
SOURCE_IMAGE_DATE: 1998 07 20
SOURCE_DEM_DATE: 1993 00 00
AGENCY: WESTERN MAPPING CENTER (WMC)
PRODUCER: ANALYTICAL SURVEYS INC.
PRODUCTION_SYSTEM: ORBIT OR_RECTIFY V.5.2
COMPRESSION: UNDEFINED
STANDARD_VERSION: 1996 12
METADATA_DATE: 2001 04 06
DATA_FILE_SIZE: 43211070
BYTE_COUNT: 5670
