FILENAME: O4511039.NWS.1145718.tif
QUADRANGLE_NAME: CHROME MOUNTAIN
QUADRANT: NW
WEST_LONGITUDE: -110 15 0.00000
EAST_LONGITUDE: -110 11 15.00000
NORTH_LATITUDE: 45 30 0.00000
SOUTH_LATITUDE: 45 26 15.00000
PRODUCTION_DATE: 2001 03 26
RASTER_ORDER: LEFT_RIGHT/TOP_BOTTOM
BAND_ORGANIZATION: SINGLE FILE
BAND_CONTENT: BLACK&WHITE
BAND_CONTENT: UNDEFINED
BAND_CONTENT: UNDEFINED
BITS_PER_PIXEL: 8
SAMPLES_AND_LINES: 5640 7620
HORIZONTAL_DATUM: NAD83
HORIZONTAL_COORDINATE_SYSTEM: UTM
COORDINATE_ZONE: 12
HORIZONTAL_UNITS: METERS
HORIZONTAL_RESOLUTION: 1.00000
SECONDARY_HORIZONTAL_DATUM: NAD27
XY_ORIGIN: 558210.00000 5039130.00000
SECONDARY_XY_ORIGIN: 558269.98900 5038919.93900
NATION: US
STATE: MT
NW_QUAD_CORNER_XY: 558595.07400 5038770.04600
NE_QUAD_CORNER_XY: 563477.99200 5038817.53800
SE_QUAD_CORNERY_XY: 563548.18900 5031874.01800
SW_QUAD_CORNER_XY: 558659.87000 5031826.52500
SECONDARY_NW_QUAD_XY: 558596.82200 5038552.44600
SECONDARY_NE_QUAD_XY: 563479.88600 5038599.93900
SECONDARY_SE_QUAD_XY: 563550.08200 5031656.46900
SECONDARY_SW_QUAD_XY: 558661.61900 5031608.97400
RMSE_XY: 4.08000
IMAGE_SOURCE: BLACK AND WHITE FILM
SOURCE_IMAGE_ID: NAPP 9185 95
SOURCE_IMAGE_DATE: 1998 07 20
SOURCE_IMAGE_ID: NAPP 9185 97
SOURCE_IMAGE_DATE: 1998 07 20
SOURCE_DEM_DATE: 1993 00 00
AGENCY: WESTERN MAPPING CENTER (WMC)
PRODUCER: ANALYTICAL SURVEYS INC.
PRODUCTION_SYSTEM: ORBIT OR_RECTIFY V.5.2
COMPRESSION: UNDEFINED
STANDARD_VERSION: 1996 12
METADATA_DATE: 2001 03 28
DATA_FILE_SIZE: 42982440
BYTE_COUNT: 5640
