FILENAME: O4511038.NWS.1118712.tif
QUADRANGLE_NAME: WEST BOULDER PLATEAU
QUADRANT: NW
WEST_LONGITUDE: -110 22 30.00000
EAST_LONGITUDE: -110 18 45.00000
NORTH_LATITUDE: 45 30 0.00000
SOUTH_LATITUDE: 45 26 15.00000
PRODUCTION_DATE: 2000 11 02
RASTER_ORDER: LEFT_RIGHT/TOP_BOTTOM
BAND_ORGANIZATION: SINGLE FILE
BAND_CONTENT: BLACK&WHITE
BAND_CONTENT: UNDEFINED
BAND_CONTENT: UNDEFINED
BITS_PER_PIXEL: 8
SAMPLES_AND_LINES: 5640 7620
HORIZONTAL_DATUM: NAD83
HORIZONTAL_COORDINATE_SYSTEM: UTM
COORDINATE_ZONE: 12
HORIZONTAL_UNITS: METERS
HORIZONTAL_RESOLUTION: 1.00000
SECONDARY_HORIZONTAL_DATUM: NAD27
XY_ORIGIN: 548460.00000 5039040.00000
SECONDARY_XY_ORIGIN: 548520.16000 5038829.83000
NATION: US
STATE: MT
NW_QUAD_CORNER_XY: 548829.23500 5038686.46200
NE_QUAD_CORNER_XY: 553712.15500 5038726.35500
SE_QUAD_CORNERY_XY: 553771.55100 5031782.83200
SW_QUAD_CORNER_XY: 548883.23100 5031742.93800
SECONDARY_NW_QUAD_XY: 548830.69200 5038468.86000
SECONDARY_NE_QUAD_XY: 553713.75800 5038508.75300
SECONDARY_SE_QUAD_XY: 553773.15400 5031565.28000
SECONDARY_SW_QUAD_XY: 548884.68800 5031525.38500
RMSE_XY: 3.66000
IMAGE_SOURCE: BLACK AND WHITE FILM
SOURCE_IMAGE_ID: NAPP 9185 259
SOURCE_IMAGE_DATE: 1998 07 20
SOURCE_IMAGE_ID: NAPP 9185 134
SOURCE_IMAGE_DATE: 1998 07 20
SOURCE_IMAGE_ID: NAPP 9185 261
SOURCE_IMAGE_DATE: 1998 07 20
SOURCE_IMAGE_ID: NAPP 9185 257
SOURCE_IMAGE_DATE: 1998 07 20
SOURCE_DEM_DATE: 1993 00 00
AGENCY: WESTERN MAPPING CENTER (WMC)
PRODUCER: ANALYTICAL SURVEYS INC.
PRODUCTION_SYSTEM: ORBIT OR_RECTIFY V.5.2
COMPRESSION: UNDEFINED
STANDARD_VERSION: 1996 12
METADATA_DATE: 2000 11 21
DATA_FILE_SIZE: 42982440
BYTE_COUNT: 5640
