FILENAME: O4511038.SWS.1118714.tif
QUADRANGLE_NAME: WEST BOULDER PLATEAU
QUADRANT: SW
WEST_LONGITUDE: -110 22 30.00000
EAST_LONGITUDE: -110 18 45.00000
NORTH_LATITUDE: 45 26 15.00000
SOUTH_LATITUDE: 45 22 30.00000
PRODUCTION_DATE: 2000 11 02
RASTER_ORDER: LEFT_RIGHT/TOP_BOTTOM
BAND_ORGANIZATION: SINGLE FILE
BAND_CONTENT: BLACK&WHITE
BAND_CONTENT: UNDEFINED
BAND_CONTENT: UNDEFINED
BITS_PER_PIXEL: 8
SAMPLES_AND_LINES: 5640 7620
HORIZONTAL_DATUM: NAD83
HORIZONTAL_COORDINATE_SYSTEM: UTM
COORDINATE_ZONE: 12
HORIZONTAL_UNITS: METERS
HORIZONTAL_RESOLUTION: 1.00000
SECONDARY_HORIZONTAL_DATUM: NAD27
XY_ORIGIN: 548520.00000 5032110.00000
SECONDARY_XY_ORIGIN: 548580.23500 5031899.86100
NATION: US
STATE: MT
NW_QUAD_CORNER_XY: 548883.23100 5031742.93800
NE_QUAD_CORNER_XY: 553771.55100 5031782.83200
SE_QUAD_CORNERY_XY: 553830.88300 5024839.38400
SW_QUAD_CORNER_XY: 548937.16900 5024799.49000
SECONDARY_NW_QUAD_XY: 548884.68800 5031525.38500
SECONDARY_NE_QUAD_XY: 553773.15400 5031565.28000
SECONDARY_SE_QUAD_XY: 553832.48500 5024621.88200
SECONDARY_SW_QUAD_XY: 548938.62500 5024581.98600
RMSE_XY: 3.86000
IMAGE_SOURCE: BLACK AND WHITE FILM
SOURCE_IMAGE_ID: NAPP 9185 261
SOURCE_IMAGE_DATE: 1998 07 20
SOURCE_IMAGE_ID: NAPP 9185 259
SOURCE_IMAGE_DATE: 1998 07 20
SOURCE_IMAGE_ID: NAPP 9185 263
SOURCE_IMAGE_DATE: 1998 07 20
SOURCE_IMAGE_ID: NAPP 9185 132
SOURCE_IMAGE_DATE: 1998 07 20
SOURCE_DEM_DATE: 1993 00 00
AGENCY: WESTERN MAPPING CENTER (WMC)
PRODUCER: ANALYTICAL SURVEYS INC.
PRODUCTION_SYSTEM: ORBIT OR_RECTIFY V.5.2
COMPRESSION: UNDEFINED
STANDARD_VERSION: 1996 12
METADATA_DATE: 2000 11 21
DATA_FILE_SIZE: 42982440
BYTE_COUNT: 5640
