FILENAME: O4511037.SES.1114215.tif
QUADRANGLE_NAME: MOUNT COWEN
QUADRANT: SE
WEST_LONGITUDE: -110 26 15.00000
EAST_LONGITUDE: -110 22 30.00000
NORTH_LATITUDE: 45 26 15.00000
SOUTH_LATITUDE: 45 22 30.00000
PRODUCTION_DATE: 2000 10 17
RASTER_ORDER: LEFT_RIGHT/TOP_BOTTOM
BAND_ORGANIZATION: SINGLE FILE
BAND_CONTENT: BLACK&WHITE
BAND_CONTENT: UNDEFINED
BAND_CONTENT: UNDEFINED
BITS_PER_PIXEL: 8
SAMPLES_AND_LINES: 5610 7620
HORIZONTAL_DATUM: NAD83
HORIZONTAL_COORDINATE_SYSTEM: UTM
COORDINATE_ZONE: 12
HORIZONTAL_UNITS: METERS
HORIZONTAL_RESOLUTION: 1.00000
SECONDARY_HORIZONTAL_DATUM: NAD27
XY_ORIGIN: 543630.00000 5032050.00000
SECONDARY_XY_ORIGIN: 543690.31500 5031839.81100
NATION: US
STATE: MT
NW_QUAD_CORNER_XY: 543994.91000 5031706.84500
NE_QUAD_CORNER_XY: 548883.23100 5031742.93800
SE_QUAD_CORNERY_XY: 548937.16900 5024799.49000
SW_QUAD_CORNER_XY: 544043.45400 5024763.39500
SECONDARY_NW_QUAD_XY: 543996.22100 5031489.29000
SECONDARY_NE_QUAD_XY: 548884.68800 5031525.38500
SECONDARY_SE_QUAD_XY: 548938.62500 5024581.98600
SECONDARY_SW_QUAD_XY: 544044.76500 5024545.89100
RMSE_XY: 4.33000
IMAGE_SOURCE: BLACK AND WHITE FILM
SOURCE_IMAGE_ID: NAPP 12009 38
SOURCE_IMAGE_DATE: 1999 08 17
SOURCE_IMAGE_ID: NAPP 11017 29
SOURCE_IMAGE_DATE: 1998 08 27
SOURCE_IMAGE_ID: NAPP 12009 26
SOURCE_IMAGE_DATE: 1999 08 17
SOURCE_IMAGE_ID: NAPP 9185 261
SOURCE_IMAGE_DATE: 1998 07 20
SOURCE_DEM_DATE: 1993 00 00
AGENCY: WESTERN MAPPING CENTER (WMC)
PRODUCER: ANALYTICAL SURVEYS INC.
PRODUCTION_SYSTEM: ORBIT OR_RECTIFY V.5.2
COMPRESSION: UNDEFINED
STANDARD_VERSION: 1996 12
METADATA_DATE: 2000 11 13
DATA_FILE_SIZE: 42753810
BYTE_COUNT: 5610
