FILENAME: O4511035.NES.1114205.tif
QUADRANGLE_NAME: PRAY
QUADRANT: NE
WEST_LONGITUDE: -110 41 15.00000
EAST_LONGITUDE: -110 37 30.00000
NORTH_LATITUDE: 45 30 0.00000
SOUTH_LATITUDE: 45 26 15.00000
PRODUCTION_DATE: 2000 10 17
RASTER_ORDER: LEFT_RIGHT/TOP_BOTTOM
BAND_ORGANIZATION: SINGLE FILE
BAND_CONTENT: BLACK&WHITE
BAND_CONTENT: UNDEFINED
BAND_CONTENT: UNDEFINED
BITS_PER_PIXEL: 8
SAMPLES_AND_LINES: 5610 7620
HORIZONTAL_DATUM: NAD83
HORIZONTAL_COORDINATE_SYSTEM: UTM
COORDINATE_ZONE: 12
HORIZONTAL_UNITS: METERS
HORIZONTAL_RESOLUTION: 1.00000
SECONDARY_HORIZONTAL_DATUM: NAD27
XY_ORIGIN: 524040.00000 5038890.00000
SECONDARY_XY_ORIGIN: 524100.62000 5038679.78700
NATION: US
STATE: MT
NW_QUAD_CORNER_XY: 524414.62300 5038543.99300
NE_QUAD_CORNER_XY: 529297.54700 5038564.88800
SE_QUAD_CORNERY_XY: 529329.94400 5031621.36000
SW_QUAD_CORNER_XY: 524441.62100 5031600.46500
SECONDARY_NW_QUAD_XY: 524415.35200 5038326.38600
SECONDARY_NE_QUAD_XY: 529298.42100 5038347.28200
SECONDARY_SE_QUAD_XY: 529330.81800 5031403.80300
SECONDARY_SW_QUAD_XY: 524442.34900 5031382.90700
RMSE_XY: 1.84000
IMAGE_SOURCE: BLACK AND WHITE FILM
SOURCE_IMAGE_ID: NAPP 11006 40
SOURCE_IMAGE_DATE: 1998 07 21
SOURCE_IMAGE_ID: NAPP 11006 42
SOURCE_IMAGE_DATE: 1998 07 21
SOURCE_IMAGE_ID: NAPP 9182 66
SOURCE_IMAGE_DATE: 1997 09 09
SOURCE_DEM_DATE: 1988 00 00
AGENCY: WESTERN MAPPING CENTER (WMC)
PRODUCER: ANALYTICAL SURVEYS INC.
PRODUCTION_SYSTEM: ORBIT OR_RECTIFY V.5.2
COMPRESSION: UNDEFINED
STANDARD_VERSION: 1996 12
METADATA_DATE: 2000 11 03
DATA_FILE_SIZE: 42753810
BYTE_COUNT: 5610
