FILENAME: O4511034.NWS.1004305.tif
QUADRANGLE_NAME: BIG DRAW
QUADRANT: NW
WEST_LONGITUDE: -110 52 30.00000
EAST_LONGITUDE: -110 48 45.00000
NORTH_LATITUDE: 45 30 0.00000
SOUTH_LATITUDE: 45 26 15.00000
PRODUCTION_DATE: 1999 5 10
RASTER_ORDER: LEFT_RIGHT/TOP_BOTTOM
BAND_ORGANIZATION: SINGLE FILE
BAND_CONTENT: BLACK&WHITE
BAND_CONTENT: UNDEFINED
BAND_CONTENT: UNDEFINED
BITS_PER_PIXEL: 8
SAMPLES_AND_LINES: 5560 7564
HORIZONTAL_DATUM: NAD83
HORIZONTAL_COORDINATE_SYSTEM: UTM
COORDINATE_ZONE: 12
HORIZONTAL_UNITS: METERS
HORIZONTAL_RESOLUTION: 1.00000
SECONDARY_HORIZONTAL_DATUM: NAD27
XY_ORIGIN: 509404.00000 5038815.00000
SECONDARY_XY_ORIGIN: 509464.00000 5038605.00000
NATION: US
STATE: MT
NW_QUAD_CORNER_XY: 509765.85000 5038504.10300
NE_QUAD_CORNER_XY: 514648.77500 5038513.60100
SE_QUAD_CORNERY_XY: 514664.97300 5031570.07100
SW_QUAD_CORNER_XY: 509776.64900 5031560.57300
SECONDARY_NW_QUAD_XY: 509766.14100 5038286.49500
SECONDARY_NE_QUAD_XY: 514649.21200 5038295.99300
SECONDARY_SE_QUAD_XY: 514665.41000 5031352.51200
SECONDARY_SW_QUAD_XY: 509776.94000 5031343.01400
RMSE_XY: 1.40000
IMAGE_SOURCE: BLACK AND WHITE FILM
SOURCE_IMAGE_ID: NAPP 11009 136
SOURCE_IMAGE_DATE: 1998 7 22
SOURCE_DEM_DATE: 1999 5 10
AGENCY: WESTERN MAPPING CENTER (WMC)
PRODUCER: WESTERN MAPPING CENTER (WMC)
PRODUCTION_SYSTEM: DV2.6.3 10/9OV2.4 5/95
COMPRESSION: UNDEFINED
STANDARD_VERSION: 1996 12
METADATA_DATE: 1999 5 11
DATA_FILE_SIZE: 42061400
BYTE_COUNT: 5560
