FILENAME: O4511034.SWS.1004307.tif
QUADRANGLE_NAME: BIG DRAW
QUADRANT: SW
WEST_LONGITUDE: -110 52 30.00000
EAST_LONGITUDE: -110 48 45.00000
NORTH_LATITUDE: 45 26 15.00000
SOUTH_LATITUDE: 45 22 30.00000
PRODUCTION_DATE: 1999 5 10
RASTER_ORDER: LEFT_RIGHT/TOP_BOTTOM
BAND_ORGANIZATION: SINGLE FILE
BAND_CONTENT: BLACK&WHITE
BAND_CONTENT: UNDEFINED
BAND_CONTENT: UNDEFINED
BITS_PER_PIXEL: 8
SAMPLES_AND_LINES: 5568 7563
HORIZONTAL_DATUM: NAD83
HORIZONTAL_COORDINATE_SYSTEM: UTM
COORDINATE_ZONE: 12
HORIZONTAL_UNITS: METERS
HORIZONTAL_RESOLUTION: 1.00000
SECONDARY_HORIZONTAL_DATUM: NAD27
XY_ORIGIN: 509415.00000 5031871.00000
SECONDARY_XY_ORIGIN: 509475.81000 5031660.94900
NATION: US
STATE: MT
NW_QUAD_CORNER_XY: 509776.64900 5031560.57300
NE_QUAD_CORNER_XY: 514664.97300 5031570.07100
SE_QUAD_CORNERY_XY: 514681.15400 5024626.61800
SW_QUAD_CORNER_XY: 509787.43600 5024617.11900
SECONDARY_NW_QUAD_XY: 509776.94000 5031343.01400
SECONDARY_NE_QUAD_XY: 514665.41000 5031352.51200
SECONDARY_SE_QUAD_XY: 514681.59100 5024409.10900
SECONDARY_SW_QUAD_XY: 509787.72700 5024399.61100
RMSE_XY: 2.40000
IMAGE_SOURCE: BLACK AND WHITE FILM
SOURCE_IMAGE_ID: NAPP 11009 134
SOURCE_IMAGE_DATE: 1998 7 22
SOURCE_DEM_DATE: 1999 5 10
AGENCY: WESTERN MAPPING CENTER (WMC)
PRODUCER: WESTERN MAPPING CENTER (WMC)
PRODUCTION_SYSTEM: DV2.6.3 10/9OV2.4 5/95
COMPRESSION: UNDEFINED
STANDARD_VERSION: 1996 12
METADATA_DATE: 1999 5 11
DATA_FILE_SIZE: 42116352
BYTE_COUNT: 5568
