FILENAME: O4511031.NES.1145713.tif
QUADRANGLE_NAME: MCLEOD BASIN
QUADRANT: NE
WEST_LONGITUDE: -110 11 15.00000
EAST_LONGITUDE: -110 7 30.00000
NORTH_LATITUDE: 45 37 30.00000
SOUTH_LATITUDE: 45 33 45.00000
PRODUCTION_DATE: 2001 03 26
RASTER_ORDER: LEFT_RIGHT/TOP_BOTTOM
BAND_ORGANIZATION: SINGLE FILE
BAND_CONTENT: BLACK&WHITE
BAND_CONTENT: UNDEFINED
BAND_CONTENT: UNDEFINED
BITS_PER_PIXEL: 8
SAMPLES_AND_LINES: 5640 7650
HORIZONTAL_DATUM: NAD83
HORIZONTAL_COORDINATE_SYSTEM: UTM
COORDINATE_ZONE: 12
HORIZONTAL_UNITS: METERS
HORIZONTAL_RESOLUTION: 1.00000
SECONDARY_HORIZONTAL_DATUM: NAD27
XY_ORIGIN: 562950.00000 5053080.00000
SECONDARY_XY_ORIGIN: 563010.02400 5052870.00100
NATION: US
STATE: MT
NW_QUAD_CORNER_XY: 563337.37000 5052704.80200
NE_QUAD_CORNER_XY: 568209.46700 5052756.08900
SE_QUAD_CORNERY_XY: 568285.22900 5045812.42200
SW_QUAD_CORNER_XY: 563407.71900 5045761.13200
SECONDARY_NW_QUAD_XY: 563339.26500 5052487.10700
SECONDARY_NE_QUAD_XY: 568211.50800 5052538.39600
SECONDARY_SE_QUAD_XY: 568287.26900 5045594.77600
SECONDARY_SW_QUAD_XY: 563409.61300 5045543.48500
RMSE_XY: 3.08000
IMAGE_SOURCE: BLACK AND WHITE FILM
SOURCE_IMAGE_ID: NAPP 9185 73
SOURCE_IMAGE_DATE: 1998 07 20
SOURCE_IMAGE_ID: NAPP 9185 71
SOURCE_IMAGE_DATE: 1998 07 20
SOURCE_DEM_DATE: 1993 00 00
AGENCY: WESTERN MAPPING CENTER (WMC)
PRODUCER: ANALYTICAL SURVEYS INC.
PRODUCTION_SYSTEM: ORBIT OR_RECTIFY V.5.2
COMPRESSION: UNDEFINED
STANDARD_VERSION: 1996 12
METADATA_DATE: 2001 03 27
DATA_FILE_SIZE: 43151640
BYTE_COUNT: 5640
