FILENAME: O4511025.SWS.1004258.tif
QUADRANGLE_NAME: MOUNT ELLIS
QUADRANT: SW
WEST_LONGITUDE: -111 0 0.00000
EAST_LONGITUDE: -110 56 15.00000
NORTH_LATITUDE: 45 33 45.00000
SOUTH_LATITUDE: 45 30 0.00000
PRODUCTION_DATE: 1999 5 11
RASTER_ORDER: LEFT_RIGHT/TOP_BOTTOM
BAND_ORGANIZATION: SINGLE FILE
BAND_CONTENT: BLACK&WHITE
BAND_CONTENT: UNDEFINED
BAND_CONTENT: UNDEFINED
BITS_PER_PIXEL: 8
SAMPLES_AND_LINES: 5544 7556
HORIZONTAL_DATUM: NAD83
HORIZONTAL_COORDINATE_SYSTEM: UTM
COORDINATE_ZONE: 12
HORIZONTAL_UNITS: METERS
HORIZONTAL_RESOLUTION: 1.00000
SECONDARY_HORIZONTAL_DATUM: NAD27
XY_ORIGIN: 499638.00000 5045743.00000
SECONDARY_XY_ORIGIN: 499698.00000 5045534.00000
NATION: US
STATE: MT
NW_QUAD_CORNER_XY: 500000.00000 5045440.11100
NE_QUAD_CORNER_XY: 504877.52000 5045442.01000
SE_QUAD_CORNERY_XY: 504882.92500 5038498.40400
SW_QUAD_CORNER_XY: 500000.00000 5038496.50500
SECONDARY_NW_QUAD_XY: 500000.00000 5045222.45400
SECONDARY_NE_QUAD_XY: 504877.66500 5045224.35400
SECONDARY_SE_QUAD_XY: 504883.07100 5038280.79600
SECONDARY_SW_QUAD_XY: 500000.00000 5038278.89600
RMSE_XY: 3.10000
IMAGE_SOURCE: BLACK AND WHITE FILM
SOURCE_IMAGE_ID: NAPP 11008 070
SOURCE_IMAGE_DATE: 1998 7 21
SOURCE_DEM_DATE: 1999 5 11
AGENCY: WESTERN MAPPING CENTER (WMC)
PRODUCER: WESTERN MAPPING CENTER (WMC)
PRODUCTION_SYSTEM: DV2.6.3 10/9OV2.4 5/95
COMPRESSION: UNDEFINED
STANDARD_VERSION: 1996 12
METADATA_DATE: 1999 5 13
DATA_FILE_SIZE: 41896008
BYTE_COUNT: 5544
