FILENAME: O4511023.NES.1114201.tif
QUADRANGLE_NAME: SPRINGDALE
QUADRANT: NE
WEST_LONGITUDE: -110 11 15.00000
EAST_LONGITUDE: -110 7 30.00000
NORTH_LATITUDE: 45 45 0.00000
SOUTH_LATITUDE: 45 41 15.00000
PRODUCTION_DATE: 2000 11 10
RASTER_ORDER: LEFT_RIGHT/TOP_BOTTOM
BAND_ORGANIZATION: SINGLE FILE
BAND_CONTENT: BLACK&WHITE
BAND_CONTENT: UNDEFINED
BAND_CONTENT: UNDEFINED
BITS_PER_PIXEL: 8
SAMPLES_AND_LINES: 5610 7650
HORIZONTAL_DATUM: NAD83
HORIZONTAL_COORDINATE_SYSTEM: UTM
COORDINATE_ZONE: 12
HORIZONTAL_UNITS: METERS
HORIZONTAL_RESOLUTION: 1.00000
SECONDARY_HORIZONTAL_DATUM: NAD27
XY_ORIGIN: 562830.00000 5066970.00000
SECONDARY_XY_ORIGIN: 562890.06400 5066760.03500
NATION: US
STATE: MT
NW_QUAD_CORNER_XY: 563196.44400 5066592.36500
NE_QUAD_CORNER_XY: 568057.70000 5066643.64700
SE_QUAD_CORNERY_XY: 568133.62400 5059699.83100
SW_QUAD_CORNER_XY: 563266.94500 5059648.54600
SECONDARY_NW_QUAD_XY: 563198.34000 5066374.57800
SECONDARY_NE_QUAD_XY: 568059.74200 5066425.86200
SECONDARY_SE_QUAD_XY: 568135.66600 5059482.09100
SECONDARY_SW_QUAD_XY: 563268.84000 5059430.80500
RMSE_XY: 2.23000
IMAGE_SOURCE: BLACK AND WHITE FILM
SOURCE_IMAGE_ID: NAPP 9172 101
SOURCE_IMAGE_DATE: 1997 08 23
SOURCE_IMAGE_ID: NAPP 9172 99
SOURCE_IMAGE_DATE: 1997 08 23
SOURCE_DEM_DATE: 1981 00 00
AGENCY: WESTERN MAPPING CENTER (WMC)
PRODUCER: ANALYTICAL SURVEYS INC.
PRODUCTION_SYSTEM: ORBIT OR_RECTIFY V.5.2
COMPRESSION: UNDEFINED
STANDARD_VERSION: 1996 12
METADATA_DATE: 2000 11 10
DATA_FILE_SIZE: 42922110
BYTE_COUNT: 5610
