FILENAME: O4511023.SES.1114203.tif
QUADRANGLE_NAME: SPRINGDALE
QUADRANT: SE
WEST_LONGITUDE: -110 11 15.00000
EAST_LONGITUDE: -110 7 30.00000
NORTH_LATITUDE: 45 41 15.00000
SOUTH_LATITUDE: 45 37 30.00000
PRODUCTION_DATE: 2000 11 10
RASTER_ORDER: LEFT_RIGHT/TOP_BOTTOM
BAND_ORGANIZATION: SINGLE FILE
BAND_CONTENT: BLACK&WHITE
BAND_CONTENT: UNDEFINED
BAND_CONTENT: UNDEFINED
BITS_PER_PIXEL: 8
SAMPLES_AND_LINES: 5640 7620
HORIZONTAL_DATUM: NAD83
HORIZONTAL_COORDINATE_SYSTEM: UTM
COORDINATE_ZONE: 12
HORIZONTAL_UNITS: METERS
HORIZONTAL_RESOLUTION: 1.00000
SECONDARY_HORIZONTAL_DATUM: NAD27
XY_ORIGIN: 562890.00000 5060010.00000
SECONDARY_XY_ORIGIN: 562950.04400 5059800.01800
NATION: US
STATE: MT
NW_QUAD_CORNER_XY: 563266.94500 5059648.54600
NE_QUAD_CORNER_XY: 568133.62400 5059699.83100
SE_QUAD_CORNERY_XY: 568209.46700 5052756.08900
SW_QUAD_CORNER_XY: 563337.37000 5052704.80200
SECONDARY_NW_QUAD_XY: 563268.84000 5059430.80500
SECONDARY_NE_QUAD_XY: 568135.66600 5059482.09100
SECONDARY_SE_QUAD_XY: 568211.50800 5052538.39600
SECONDARY_SW_QUAD_XY: 563339.26500 5052487.10700
RMSE_XY: 2.92000
IMAGE_SOURCE: BLACK AND WHITE FILM
SOURCE_IMAGE_ID: NAPP 9172 99
SOURCE_IMAGE_DATE: 1997 08 23
SOURCE_DEM_DATE: 1981 00 00
AGENCY: WESTERN MAPPING CENTER (WMC)
PRODUCER: ANALYTICAL SURVEYS INC.
PRODUCTION_SYSTEM: ORBIT OR_RECTIFY V.5.2
COMPRESSION: UNDEFINED
STANDARD_VERSION: 1996 12
METADATA_DATE: 2000 11 10
DATA_FILE_SIZE: 42982440
BYTE_COUNT: 5640
