FILENAME: O4511021.NES.1114149.tif
QUADRANGLE_NAME: MISSION
QUADRANT: NE
WEST_LONGITUDE: -110 26 15.00000
EAST_LONGITUDE: -110 22 30.00000
NORTH_LATITUDE: 45 45 0.00000
SOUTH_LATITUDE: 45 41 15.00000
PRODUCTION_DATE: 2000 11 01
RASTER_ORDER: LEFT_RIGHT/TOP_BOTTOM
BAND_ORGANIZATION: SINGLE FILE
BAND_CONTENT: BLACK&WHITE
BAND_CONTENT: UNDEFINED
BAND_CONTENT: UNDEFINED
BITS_PER_PIXEL: 8
SAMPLES_AND_LINES: 5580 7620
HORIZONTAL_DATUM: NAD83
HORIZONTAL_COORDINATE_SYSTEM: UTM
COORDINATE_ZONE: 12
HORIZONTAL_UNITS: METERS
HORIZONTAL_RESOLUTION: 1.00000
SECONDARY_HORIZONTAL_DATUM: NAD27
XY_ORIGIN: 543390.00000 5066790.00000
SECONDARY_XY_ORIGIN: 543450.16400 5066579.82700
NATION: US
STATE: MT
NW_QUAD_CORNER_XY: 543751.40300 5066425.22600
NE_QUAD_CORNER_XY: 548612.66600 5066461.31200
SE_QUAD_CORNERY_XY: 548666.89500 5059517.48700
SW_QUAD_CORNER_XY: 543800.21000 5059481.39900
SECONDARY_NW_QUAD_XY: 543752.71600 5066207.43400
SECONDARY_NE_QUAD_XY: 548614.12400 5066243.52200
SECONDARY_SE_QUAD_XY: 548668.35400 5059299.74200
SECONDARY_SW_QUAD_XY: 543801.52200 5059263.65300
RMSE_XY: 2.01000
IMAGE_SOURCE: BLACK AND WHITE FILM
SOURCE_IMAGE_ID: NAPP 12009 122
SOURCE_IMAGE_DATE: 1999 08 17
SOURCE_DEM_DATE: 1993 00 00
AGENCY: WESTERN MAPPING CENTER (WMC)
PRODUCER: ANALYTICAL SURVEYS INC.
PRODUCTION_SYSTEM: ORBIT OR_RECTIFY V.5.2
COMPRESSION: UNDEFINED
STANDARD_VERSION: 1996 12
METADATA_DATE: 2000 11 02
DATA_FILE_SIZE: 42525180
BYTE_COUNT: 5580
