FILENAME: O4511015.SWS.1114200.tif
QUADRANGLE_NAME: KELLY HILLS
QUADRANT: SW
WEST_LONGITUDE: -110 15 0.00000
EAST_LONGITUDE: -110 11 15.00000
NORTH_LATITUDE: 45 48 45.00000
SOUTH_LATITUDE: 45 45 0.00000
PRODUCTION_DATE: 2000 11 10
RASTER_ORDER: LEFT_RIGHT/TOP_BOTTOM
BAND_ORGANIZATION: SINGLE FILE
BAND_CONTENT: BLACK&WHITE
BAND_CONTENT: UNDEFINED
BAND_CONTENT: UNDEFINED
BITS_PER_PIXEL: 8
SAMPLES_AND_LINES: 5610 7620
HORIZONTAL_DATUM: NAD83
HORIZONTAL_COORDINATE_SYSTEM: UTM
COORDINATE_ZONE: 12
HORIZONTAL_UNITS: METERS
HORIZONTAL_RESOLUTION: 1.00000
SECONDARY_HORIZONTAL_DATUM: NAD27
XY_ORIGIN: 557910.00000 5073840.00000
SECONDARY_XY_ORIGIN: 557970.02800 5073629.85600
NATION: US
STATE: MT
NW_QUAD_CORNER_XY: 558270.03900 5073488.77800
NE_QUAD_CORNER_XY: 563125.86700 5073536.25800
SE_QUAD_CORNERY_XY: 563196.44400 5066592.36500
SW_QUAD_CORNER_XY: 558335.18600 5066544.88200
SECONDARY_NW_QUAD_XY: 558271.79000 5073270.94500
SECONDARY_NE_QUAD_XY: 563127.76400 5073318.42700
SECONDARY_SE_QUAD_XY: 563198.34000 5066374.57800
SECONDARY_SW_QUAD_XY: 558336.93600 5066327.09300
RMSE_XY: 2.89000
IMAGE_SOURCE: BLACK AND WHITE FILM
SOURCE_IMAGE_ID: NAPP 9172 191
SOURCE_IMAGE_DATE: 1997 08 23
SOURCE_DEM_DATE: 1951 00 00
AGENCY: WESTERN MAPPING CENTER (WMC)
PRODUCER: ANALYTICAL SURVEYS INC.
PRODUCTION_SYSTEM: ORBIT OR_RECTIFY V.5.2
COMPRESSION: UNDEFINED
STANDARD_VERSION: 1996 12
METADATA_DATE: 2000 11 10
DATA_FILE_SIZE: 42753810
BYTE_COUNT: 5610
