FILENAME: O4511014.NWS.1114146.tif
QUADRANGLE_NAME: HUNTERS HOT SPRINGS
QUADRANT: NW
WEST_LONGITUDE: -110 22 30.00000
EAST_LONGITUDE: -110 18 45.00000
NORTH_LATITUDE: 45 52 30.00000
SOUTH_LATITUDE: 45 48 45.00000
PRODUCTION_DATE: 2000 11 01
RASTER_ORDER: LEFT_RIGHT/TOP_BOTTOM
BAND_ORGANIZATION: SINGLE FILE
BAND_CONTENT: BLACK&WHITE
BAND_CONTENT: UNDEFINED
BAND_CONTENT: UNDEFINED
BITS_PER_PIXEL: 8
SAMPLES_AND_LINES: 5610 7620
HORIZONTAL_DATUM: NAD83
HORIZONTAL_COORDINATE_SYSTEM: UTM
COORDINATE_ZONE: 12
HORIZONTAL_UNITS: METERS
HORIZONTAL_RESOLUTION: 1.00000
SECONDARY_HORIZONTAL_DATUM: NAD27
XY_ORIGIN: 548130.00000 5080710.00000
SECONDARY_XY_ORIGIN: 548189.99500 5080499.63600
NATION: US
STATE: MT
NW_QUAD_CORNER_XY: 548504.03100 5080349.19000
NE_QUAD_CORNER_XY: 553354.42800 5080389.07000
SE_QUAD_CORNERY_XY: 553414.20900 5073445.09600
SW_QUAD_CORNER_XY: 548558.37700 5073405.21300
SECONDARY_NW_QUAD_XY: 548505.49000 5080131.31000
SECONDARY_NE_QUAD_XY: 553356.03300 5080171.19200
SECONDARY_SE_QUAD_XY: 553415.81400 5073227.26200
SECONDARY_SW_QUAD_XY: 548559.83600 5073187.37800
RMSE_XY: 1.54000
IMAGE_SOURCE: BLACK AND WHITE FILM
SOURCE_IMAGE_ID: NAPP 9185 247
SOURCE_IMAGE_DATE: 1998 07 20
SOURCE_DEM_DATE: 1980 00 00
AGENCY: WESTERN MAPPING CENTER (WMC)
PRODUCER: ANALYTICAL SURVEYS INC.
PRODUCTION_SYSTEM: ORBIT OR_RECTIFY V.5.2
COMPRESSION: UNDEFINED
STANDARD_VERSION: 1996 12
METADATA_DATE: 2000 11 10
DATA_FILE_SIZE: 42753810
BYTE_COUNT: 5610
