FILENAME: O4511014.SWS.1114148.tif
QUADRANGLE_NAME: HUNTERS HOT SPRINGS
QUADRANT: SW
WEST_LONGITUDE: -110 22 30.00000
EAST_LONGITUDE: -110 18 45.00000
NORTH_LATITUDE: 45 48 45.00000
SOUTH_LATITUDE: 45 45 0.00000
PRODUCTION_DATE: 2000 11 01
RASTER_ORDER: LEFT_RIGHT/TOP_BOTTOM
BAND_ORGANIZATION: SINGLE FILE
BAND_CONTENT: BLACK&WHITE
BAND_CONTENT: UNDEFINED
BAND_CONTENT: UNDEFINED
BITS_PER_PIXEL: 8
SAMPLES_AND_LINES: 5610 7620
HORIZONTAL_DATUM: NAD83
HORIZONTAL_COORDINATE_SYSTEM: UTM
COORDINATE_ZONE: 12
HORIZONTAL_UNITS: METERS
HORIZONTAL_RESOLUTION: 1.00000
SECONDARY_HORIZONTAL_DATUM: NAD27
XY_ORIGIN: 548190.00000 5073750.00000
SECONDARY_XY_ORIGIN: 548250.06400 5073539.75900
NATION: US
STATE: MT
NW_QUAD_CORNER_XY: 548558.37700 5073405.21300
NE_QUAD_CORNER_XY: 553414.20900 5073445.09600
SE_QUAD_CORNERY_XY: 553473.92700 5066501.19800
SW_QUAD_CORNER_XY: 548612.66600 5066461.31200
SECONDARY_NW_QUAD_XY: 548559.83600 5073187.37800
SECONDARY_NE_QUAD_XY: 553415.81400 5073227.26200
SECONDARY_SE_QUAD_XY: 553475.53100 5066283.40800
SECONDARY_SW_QUAD_XY: 548614.12400 5066243.52200
RMSE_XY: 3.89000
IMAGE_SOURCE: BLACK AND WHITE FILM
SOURCE_IMAGE_ID: NAPP 9185 249
SOURCE_IMAGE_DATE: 1998 07 20
SOURCE_IMAGE_ID: NAPP 12009 120
SOURCE_IMAGE_DATE: 1999 08 17
SOURCE_DEM_DATE: 1980 00 00
AGENCY: WESTERN MAPPING CENTER (WMC)
PRODUCER: ANALYTICAL SURVEYS INC.
PRODUCTION_SYSTEM: ORBIT OR_RECTIFY V.5.2
COMPRESSION: UNDEFINED
STANDARD_VERSION: 1996 12
METADATA_DATE: 2000 11 02
DATA_FILE_SIZE: 42753810
BYTE_COUNT: 5610
