FILENAME: O4511013.NES.1114143.tif
QUADRANGLE_NAME: GRANNIS
QUADRANT: NE
WEST_LONGITUDE: -110 26 15.00000
EAST_LONGITUDE: -110 22 30.00000
NORTH_LATITUDE: 45 52 30.00000
SOUTH_LATITUDE: 45 48 45.00000
PRODUCTION_DATE: 2000 11 01
RASTER_ORDER: LEFT_RIGHT/TOP_BOTTOM
BAND_ORGANIZATION: SINGLE FILE
BAND_CONTENT: BLACK&WHITE
BAND_CONTENT: UNDEFINED
BAND_CONTENT: UNDEFINED
BITS_PER_PIXEL: 8
SAMPLES_AND_LINES: 5610 7590
HORIZONTAL_DATUM: NAD83
HORIZONTAL_COORDINATE_SYSTEM: UTM
COORDINATE_ZONE: 12
HORIZONTAL_UNITS: METERS
HORIZONTAL_RESOLUTION: 1.00000
SECONDARY_HORIZONTAL_DATUM: NAD27
XY_ORIGIN: 543270.00000 5080650.00000
SECONDARY_XY_ORIGIN: 543330.00000 5080439.61500
NATION: US
STATE: MT
NW_QUAD_CORNER_XY: 543653.63300 5080313.10800
NE_QUAD_CORNER_XY: 548504.03100 5080349.19000
SE_QUAD_CORNERY_XY: 548558.37700 5073405.21300
SW_QUAD_CORNER_XY: 543702.54400 5073369.12900
SECONDARY_NW_QUAD_XY: 543654.94600 5080095.22700
SECONDARY_NE_QUAD_XY: 548505.49000 5080131.31000
SECONDARY_SE_QUAD_XY: 548559.83600 5073187.37800
SECONDARY_SW_QUAD_XY: 543703.85700 5073151.29200
RMSE_XY: 2.15000
IMAGE_SOURCE: BLACK AND WHITE FILM
SOURCE_IMAGE_ID: NAPP 12009 118
SOURCE_IMAGE_DATE: 1999 08 17
SOURCE_IMAGE_ID: NAPP 12009 120
SOURCE_IMAGE_DATE: 1999 08 17
SOURCE_DEM_DATE: 1951 00 00
AGENCY: WESTERN MAPPING CENTER (WMC)
PRODUCER: ANALYTICAL SURVEYS INC.
PRODUCTION_SYSTEM: ORBIT OR_RECTIFY V.5.2
COMPRESSION: UNDEFINED
STANDARD_VERSION: 1996 12
METADATA_DATE: 2000 11 01
DATA_FILE_SIZE: 42585510
BYTE_COUNT: 5610
