FILENAME: O4511013.SES.1114144.tif
QUADRANGLE_NAME: GRANNIS
QUADRANT: SE
WEST_LONGITUDE: -110 26 15.00000
EAST_LONGITUDE: -110 22 30.00000
NORTH_LATITUDE: 45 48 45.00000
SOUTH_LATITUDE: 45 45 0.00000
PRODUCTION_DATE: 2000 11 01
RASTER_ORDER: LEFT_RIGHT/TOP_BOTTOM
BAND_ORGANIZATION: SINGLE FILE
BAND_CONTENT: BLACK&WHITE
BAND_CONTENT: UNDEFINED
BAND_CONTENT: UNDEFINED
BITS_PER_PIXEL: 8
SAMPLES_AND_LINES: 5610 7620
HORIZONTAL_DATUM: NAD83
HORIZONTAL_COORDINATE_SYSTEM: UTM
COORDINATE_ZONE: 12
HORIZONTAL_UNITS: METERS
HORIZONTAL_RESOLUTION: 1.00000
SECONDARY_HORIZONTAL_DATUM: NAD27
XY_ORIGIN: 543330.00000 5073720.00000
SECONDARY_XY_ORIGIN: 543390.08000 5073509.71300
NATION: US
STATE: MT
NW_QUAD_CORNER_XY: 543702.54400 5073369.12900
NE_QUAD_CORNER_XY: 548558.37700 5073405.21300
SE_QUAD_CORNERY_XY: 548612.66600 5066461.31200
SW_QUAD_CORNER_XY: 543751.40300 5066425.22600
SECONDARY_NW_QUAD_XY: 543703.85700 5073151.29200
SECONDARY_NE_QUAD_XY: 548559.83600 5073187.37800
SECONDARY_SE_QUAD_XY: 548614.12400 5066243.52200
SECONDARY_SW_QUAD_XY: 543752.71600 5066207.43400
RMSE_XY: 1.58000
IMAGE_SOURCE: BLACK AND WHITE FILM
SOURCE_IMAGE_ID: NAPP 12009 120
SOURCE_IMAGE_DATE: 1999 08 17
SOURCE_DEM_DATE: 1951 00 00
AGENCY: WESTERN MAPPING CENTER (WMC)
PRODUCER: ANALYTICAL SURVEYS INC.
PRODUCTION_SYSTEM: ORBIT OR_RECTIFY V.5.2
COMPRESSION: UNDEFINED
STANDARD_VERSION: 1996 12
METADATA_DATE: 2000 11 01
DATA_FILE_SIZE: 42753810
BYTE_COUNT: 5610
