FILENAME: O4511011.SES.1145687.tif
QUADRANGLE_NAME: GOBBLERS KNOB
QUADRANT: SE
WEST_LONGITUDE: -110 41 15.00000
EAST_LONGITUDE: -110 37 30.00000
NORTH_LATITUDE: 45 48 45.00000
SOUTH_LATITUDE: 45 45 0.00000
PRODUCTION_DATE: 2001 03 01
RASTER_ORDER: LEFT_RIGHT/TOP_BOTTOM
BAND_ORGANIZATION: SINGLE FILE
BAND_CONTENT: BLACK&WHITE
BAND_CONTENT: UNDEFINED
BAND_CONTENT: UNDEFINED
BITS_PER_PIXEL: 8
SAMPLES_AND_LINES: 5580 7590
HORIZONTAL_DATUM: NAD83
HORIZONTAL_COORDINATE_SYSTEM: UTM
COORDINATE_ZONE: 12
HORIZONTAL_UNITS: METERS
HORIZONTAL_RESOLUTION: 1.00000
SECONDARY_HORIZONTAL_DATUM: NAD27
XY_ORIGIN: 523890.00000 5073600.00000
SECONDARY_XY_ORIGIN: 523950.35800 5073389.81600
NATION: US
STATE: MT
NW_QUAD_CORNER_XY: 524279.19800 5073262.77700
NE_QUAD_CORNER_XY: 529135.03600 5073283.66800
SE_QUAD_CORNERY_XY: 529167.60800 5066339.76000
SW_QUAD_CORNER_XY: 524306.34200 5066318.86800
SECONDARY_NW_QUAD_XY: 524279.92800 5073044.93700
SECONDARY_NE_QUAD_XY: 529135.91200 5073065.82800
SECONDARY_SE_QUAD_XY: 529168.48400 5066121.96500
SECONDARY_SW_QUAD_XY: 524307.07100 5066101.07300
RMSE_XY: 2.79000
IMAGE_SOURCE: BLACK AND WHITE FILM
SOURCE_IMAGE_ID: NAPP 11006 50
SOURCE_IMAGE_DATE: 1998 07 21
SOURCE_DEM_DATE: 1948 00 00
AGENCY: WESTERN MAPPING CENTER (WMC)
PRODUCER: ANALYTICAL SURVEYS INC.
PRODUCTION_SYSTEM: ORBIT OR_RECTIFY V.5.2
COMPRESSION: UNDEFINED
STANDARD_VERSION: 1996 12
METADATA_DATE: 2001 03 12
DATA_FILE_SIZE: 42357780
BYTE_COUNT: 5580
