FILENAME: O4511010.NES.1004693.tif
QUADRANGLE_NAME: GRASSY MOUNTAIN
QUADRANT: NE
WEST_LONGITUDE: -110 48 45.00000
EAST_LONGITUDE: -110 45 0.00000
NORTH_LATITUDE: 45 52 30.00000
SOUTH_LATITUDE: 45 48 45.00000
PRODUCTION_DATE: 1999 5 12
RASTER_ORDER: LEFT_RIGHT/TOP_BOTTOM
BAND_ORGANIZATION: SINGLE FILE
BAND_CONTENT: BLACK&WHITE
BAND_CONTENT: UNDEFINED
BAND_CONTENT: UNDEFINED
BITS_PER_PIXEL: 8
SAMPLES_AND_LINES: 5532 7568
HORIZONTAL_DATUM: NAD83
HORIZONTAL_COORDINATE_SYSTEM: UTM
COORDINATE_ZONE: 12
HORIZONTAL_UNITS: METERS
HORIZONTAL_RESOLUTION: 1.00000
SECONDARY_HORIZONTAL_DATUM: NAD27
XY_ORIGIN: 514190.00000 5080491.00000
SECONDARY_XY_ORIGIN: 514250.00000 5080281.00000
NATION: US
STATE: MT
NW_QUAD_CORNER_XY: 514551.21700 5080176.37800
NE_QUAD_CORNER_XY: 519401.62200 5080189.67100
SE_QUAD_CORNERY_XY: 519423.36000 5073245.68500
SW_QUAD_CORNER_XY: 514567.52000 5073232.39200
SECONDARY_NW_QUAD_XY: 514551.65500 5079958.49300
SECONDARY_NE_QUAD_XY: 519402.20500 5079971.78700
SECONDARY_SE_QUAD_XY: 519423.94300 5073027.84500
SECONDARY_SW_QUAD_XY: 514567.95800 5073014.55100
RMSE_XY: 0.70000
IMAGE_SOURCE: BLACK AND WHITE FILM
SOURCE_IMAGE_ID: NAPP 9183 143
SOURCE_IMAGE_DATE: 1997 9 9
SOURCE_DEM_DATE: 1999 5 12
AGENCY: WESTERN MAPPING CENTER (WMC)
PRODUCER: WESTERN MAPPING CENTER (WMC)
PRODUCTION_SYSTEM: DV2.6.3 10/9OV2.4 5/95
COMPRESSION: UNDEFINED
STANDARD_VERSION: 1996 12
METADATA_DATE: 1999 5 24
DATA_FILE_SIZE: 41871708
BYTE_COUNT: 5532
