FILENAME: O4511008.SWS.1115264.tif
QUADRANGLE_NAME: GROSFIELD RANCH
QUADRANT: SW
WEST_LONGITUDE: -110 7 30.00000
EAST_LONGITUDE: -110 3 45.00000
NORTH_LATITUDE: 45 56 15.00000
SOUTH_LATITUDE: 45 52 30.00000
PRODUCTION_DATE: 2000 11 14
RASTER_ORDER: LEFT_RIGHT/TOP_BOTTOM
BAND_ORGANIZATION: SINGLE FILE
BAND_CONTENT: BLACK&WHITE
BAND_CONTENT: UNDEFINED
BAND_CONTENT: UNDEFINED
BITS_PER_PIXEL: 8
SAMPLES_AND_LINES: 5610 7650
HORIZONTAL_DATUM: NAD83
HORIZONTAL_COORDINATE_SYSTEM: UTM
COORDINATE_ZONE: 12
HORIZONTAL_UNITS: METERS
HORIZONTAL_RESOLUTION: 1.00000
SECONDARY_HORIZONTAL_DATUM: NAD27
XY_ORIGIN: 567450.00000 5087850.00000
SECONDARY_XY_ORIGIN: 567509.92000 5087639.33100
NATION: US
STATE: MT
NW_QUAD_CORNER_XY: 567829.43700 5087475.54300
NE_QUAD_CORNER_XY: 572674.38400 5087530.61400
SE_QUAD_CORNERY_XY: 572755.99400 5080586.57800
SW_QUAD_CORNER_XY: 567905.60600 5080531.50300
SECONDARY_NW_QUAD_XY: 567831.48000 5087257.62500
SECONDARY_NE_QUAD_XY: 572676.57300 5087312.69800
SECONDARY_SE_QUAD_XY: 572758.18300 5080368.70500
SECONDARY_SW_QUAD_XY: 567907.64900 5080313.62900
RMSE_XY: 1.83000
IMAGE_SOURCE: BLACK AND WHITE FILM
SOURCE_IMAGE_ID: NAPP 9172 80
SOURCE_IMAGE_DATE: 1997 08 23
SOURCE_IMAGE_ID: NAPP 9172 09
SOURCE_IMAGE_DATE: 1997 08 23
SOURCE_DEM_DATE: 1980 00 00
AGENCY: WESTERN MAPPING CENTER (WMC)
PRODUCER: ANALYTICAL SURVEYS INC.
PRODUCTION_SYSTEM: ORBIT OR_RECTIFY V.5.2
COMPRESSION: UNDEFINED
STANDARD_VERSION: 1996 12
METADATA_DATE: 2000 11 16
DATA_FILE_SIZE: 42922110
BYTE_COUNT: 5610
