FILENAME: O4511006.SES.1145703.tif
QUADRANGLE_NAME: FAIRVIEW PEAK
QUADRANT: SE
WEST_LONGITUDE: -110 18 45.00000
EAST_LONGITUDE: -110 15 0.00000
NORTH_LATITUDE: 45 56 15.00000
SOUTH_LATITUDE: 45 52 30.00000
PRODUCTION_DATE: 2001 03 19
RASTER_ORDER: LEFT_RIGHT/TOP_BOTTOM
BAND_ORGANIZATION: SINGLE FILE
BAND_CONTENT: BLACK&WHITE
BAND_CONTENT: UNDEFINED
BAND_CONTENT: UNDEFINED
BITS_PER_PIXEL: 8
SAMPLES_AND_LINES: 5580 7620
HORIZONTAL_DATUM: NAD83
HORIZONTAL_COORDINATE_SYSTEM: UTM
COORDINATE_ZONE: 12
HORIZONTAL_UNITS: METERS
HORIZONTAL_RESOLUTION: 1.00000
SECONDARY_HORIZONTAL_DATUM: NAD27
XY_ORIGIN: 552930.00000 5087700.00000
SECONDARY_XY_ORIGIN: 552989.93400 5087489.50800
NATION: US
STATE: MT
NW_QUAD_CORNER_XY: 553294.58200 5087333.11900
NE_QUAD_CORNER_XY: 558139.53600 5087376.79600
SE_QUAD_CORNERY_XY: 558204.82300 5080432.74900
SW_QUAD_CORNER_XY: 553354.42800 5080389.07000
SECONDARY_NW_QUAD_XY: 553296.18800 5087115.19700
SECONDARY_NE_QUAD_XY: 558141.28800 5087158.87500
SECONDARY_SE_QUAD_XY: 558206.57400 5080214.87200
SECONDARY_SW_QUAD_XY: 553356.03300 5080171.19200
RMSE_XY: 2.61000
IMAGE_SOURCE: BLACK AND WHITE FILM
SOURCE_IMAGE_ID: NAPP 9185 144
SOURCE_IMAGE_DATE: 1998 07 20
SOURCE_DEM_DATE: 1951 00 00
AGENCY: WESTERN MAPPING CENTER (WMC)
PRODUCER: ANALYTICAL SURVEYS INC.
PRODUCTION_SYSTEM: ORBIT OR_RECTIFY V.5.2
COMPRESSION: UNDEFINED
STANDARD_VERSION: 1996 12
METADATA_DATE: 2001 03 23
DATA_FILE_SIZE: 42525180
BYTE_COUNT: 5580
