FILENAME: O4511005.NWS.1145698.tif
QUADRANGLE_NAME: IBEX MOUNTAIN
QUADRANT: NW
WEST_LONGITUDE: -110 30 0.00000
EAST_LONGITUDE: -110 26 15.00000
NORTH_LATITUDE: 46 0 0.00000
SOUTH_LATITUDE: 45 56 15.00000
PRODUCTION_DATE: 2001 03 19
RASTER_ORDER: LEFT_RIGHT/TOP_BOTTOM
BAND_ORGANIZATION: SINGLE FILE
BAND_CONTENT: BLACK&WHITE
BAND_CONTENT: UNDEFINED
BAND_CONTENT: UNDEFINED
BITS_PER_PIXEL: 8
SAMPLES_AND_LINES: 5580 7620
HORIZONTAL_DATUM: NAD83
HORIZONTAL_COORDINATE_SYSTEM: UTM
COORDINATE_ZONE: 12
HORIZONTAL_UNITS: METERS
HORIZONTAL_RESOLUTION: 1.00000
SECONDARY_HORIZONTAL_DATUM: NAD27
XY_ORIGIN: 538350.00000 5094510.00000
SECONDARY_XY_ORIGIN: 538409.81900 5094299.45100
NATION: US
STATE: MT
NW_QUAD_CORNER_XY: 538716.14100 5094169.01200
NE_QUAD_CORNER_XY: 543555.65300 5094201.29200
SE_QUAD_CORNERY_XY: 543604.66900 5087257.16200
SW_QUAD_CORNER_XY: 538759.71000 5087224.88000
SECONDARY_NW_QUAD_XY: 538717.30800 5093951.04500
SECONDARY_NE_QUAD_XY: 543556.96700 5093983.32500
SECONDARY_SE_QUAD_XY: 543605.98300 5087039.23800
SECONDARY_SW_QUAD_XY: 538760.87800 5087006.95500
RMSE_XY: 1.49000
IMAGE_SOURCE: BLACK AND WHITE FILM
SOURCE_IMAGE_ID: NAPP 12009 56
SOURCE_IMAGE_DATE: 1999 08 17
SOURCE_IMAGE_ID: NAPP 12009 58
SOURCE_IMAGE_DATE: 1999 08 17
SOURCE_DEM_DATE: 1993 00 00
AGENCY: WESTERN MAPPING CENTER (WMC)
PRODUCER: ANALYTICAL SURVEYS INC.
PRODUCTION_SYSTEM: ORBIT OR_RECTIFY V.5.2
COMPRESSION: UNDEFINED
STANDARD_VERSION: 1996 12
METADATA_DATE: 2001 03 23
DATA_FILE_SIZE: 42525180
BYTE_COUNT: 5580
