FILENAME: O4511003.SWS.1112026.tif
QUADRANGLE_NAME: WILSALL
QUADRANT: SW
WEST_LONGITUDE: -110 45 0.00000
EAST_LONGITUDE: -110 41 15.00000
NORTH_LATITUDE: 45 56 15.00000
SOUTH_LATITUDE: 45 52 30.00000
PRODUCTION_DATE: 2000 10 11
RASTER_ORDER: LEFT_RIGHT/TOP_BOTTOM
BAND_ORGANIZATION: SINGLE FILE
BAND_CONTENT: BLACK&WHITE
BAND_CONTENT: UNDEFINED
BAND_CONTENT: UNDEFINED
BITS_PER_PIXEL: 8
SAMPLES_AND_LINES: 5580 7590
HORIZONTAL_DATUM: NAD83
HORIZONTAL_COORDINATE_SYSTEM: UTM
COORDINATE_ZONE: 12
HORIZONTAL_UNITS: METERS
HORIZONTAL_RESOLUTION: 1.00000
SECONDARY_HORIZONTAL_DATUM: NAD27
XY_ORIGIN: 519000.00000 5087460.00000
SECONDARY_XY_ORIGIN: 519060.18100 5087249.77800
NATION: US
STATE: MT
NW_QUAD_CORNER_XY: 519379.86100 5087133.73300
NE_QUAD_CORNER_XY: 524224.82500 5087150.82300
SE_QUAD_CORNERY_XY: 524252.02600 5080206.76200
SW_QUAD_CORNER_XY: 519401.62200 5080189.67100
SECONDARY_NW_QUAD_XY: 519380.44500 5086915.80500
SECONDARY_NE_QUAD_XY: 524225.55400 5086932.89600
SECONDARY_SE_QUAD_XY: 524252.75600 5079988.87800
SECONDARY_SW_QUAD_XY: 519402.20500 5079971.78600
RMSE_XY: 1.38000
IMAGE_SOURCE: BLACK AND WHITE FILM
SOURCE_IMAGE_ID: NAPP 11006 69
SOURCE_IMAGE_DATE: 1998 07 21
SOURCE_DEM_DATE: 1980 00 00
AGENCY: WESTERN MAPPING CENTER (WMC)
PRODUCER: ANALYTICAL SURVEYS INC.
PRODUCTION_SYSTEM: ORBIT OR_RECTIFY V.5.2
COMPRESSION: UNDEFINED
STANDARD_VERSION: 1996 12
METADATA_DATE: 2000 10 12
DATA_FILE_SIZE: 42357780
BYTE_COUNT: 5580
