FILENAME: O4511002.NES.1004688.tif
QUADRANGLE_NAME: SEDAN
QUADRANT: NE
WEST_LONGITUDE: -110 48 45.00000
EAST_LONGITUDE: -110 45 0.00000
NORTH_LATITUDE: 46 0 0.00000
SOUTH_LATITUDE: 45 56 15.00000
PRODUCTION_DATE: 1999 5 12
RASTER_ORDER: LEFT_RIGHT/TOP_BOTTOM
BAND_ORGANIZATION: SINGLE FILE
BAND_CONTENT: BLACK&WHITE
BAND_CONTENT: UNDEFINED
BAND_CONTENT: UNDEFINED
BITS_PER_PIXEL: 8
SAMPLES_AND_LINES: 5524 7568
HORIZONTAL_DATUM: NAD83
HORIZONTAL_COORDINATE_SYSTEM: UTM
COORDINATE_ZONE: 12
HORIZONTAL_UNITS: METERS
HORIZONTAL_RESOLUTION: 1.00000
SECONDARY_HORIZONTAL_DATUM: NAD27
XY_ORIGIN: 514158.00000 5094379.00000
SECONDARY_XY_ORIGIN: 514218.12200 5094168.78000
NATION: US
STATE: MT
NW_QUAD_CORNER_XY: 514518.55800 5094064.58100
NE_QUAD_CORNER_XY: 519358.07600 5094077.87200
SE_QUAD_CORNERY_XY: 519379.86100 5087133.73400
SW_QUAD_CORNER_XY: 514534.89600 5087120.44200
SECONDARY_NW_QUAD_XY: 514518.99600 5093846.61000
SECONDARY_NE_QUAD_XY: 519358.66000 5093859.90200
SECONDARY_SE_QUAD_XY: 519380.44500 5086915.80600
SECONDARY_SW_QUAD_XY: 514535.33400 5086902.51300
RMSE_XY: 2.00000
IMAGE_SOURCE: BLACK AND WHITE FILM
SOURCE_IMAGE_ID: NAPP 9183 139
SOURCE_IMAGE_DATE: 1997 9 9
SOURCE_DEM_DATE: 1999 5 12
AGENCY: WESTERN MAPPING CENTER (WMC)
PRODUCER: WESTERN MAPPING CENTER (WMC)
PRODUCTION_SYSTEM: DV2.6.3 10/9OV2.4 5/95
COMPRESSION: UNDEFINED
STANDARD_VERSION: 1996 12
METADATA_DATE: 1999 5 24
DATA_FILE_SIZE: 41811156
BYTE_COUNT: 5524
