FILENAME: O4511163.NWS.830071.tif
QUADRANGLE_NAME: SUNSHINE POINT
QUADRANT: NW
WEST_LONGITUDE: -111 15 0.00000
EAST_LONGITUDE: -111 11 15.00000
NORTH_LATITUDE: 45 7 30.00000
SOUTH_LATITUDE: 45 3 45.00000
PRODUCTION_DATE: 1997 11 4
RASTER_ORDER: LEFT_RIGHT/TOP_BOTTOM
BAND_ORGANIZATION: SINGLE FILE
BAND_CONTENT: BLACK&WHITE
BAND_CONTENT: UNDEFINED
BAND_CONTENT: UNDEFINED
BITS_PER_PIXEL: 8
SAMPLES_AND_LINES: 5602 7567
HORIZONTAL_DATUM: NAD83
HORIZONTAL_COORDINATE_SYSTEM: UTM
COORDINATE_ZONE: 12
HORIZONTAL_UNITS: METERS
HORIZONTAL_RESOLUTION: 1.00000
SECONDARY_HORIZONTAL_DATUM: NAD27
XY_ORIGIN: 479954.00000 4997167.00000
SECONDARY_XY_ORIGIN: 480015.26900 4996957.47100
NATION: US
NATION: "SCIENCE
STATE: MT
NW_QUAD_CORNER_XY: 480339.06600 4996866.86500
NE_QUAD_CORNER_XY: 485254.29900 4996853.56600
SE_QUAD_CORNERY_XY: 485238.20700 4989910.49400
SW_QUAD_CORNER_XY: 480317.60900 4989923.79200
SECONDARY_NW_QUAD_XY: 480338.48400 4996649.56500
SECONDARY_NE_QUAD_XY: 485253.86300 4996636.26600
SECONDARY_SE_QUAD_XY: 485237.77100 4989693.24800
SECONDARY_SW_QUAD_XY: 480317.02700 4989706.54700
RMSE_XY: 1.20000
IMAGE_SOURCE: BLACK AND WHITE FILM
SOURCE_IMAGE_ID: NAPP 8375 114
SOURCE_IMAGE_DATE: 1995 08 12
SOURCE_IMAGE_ID: NAPP 8375 115
SOURCE_IMAGE_DATE: 1995 08 12
SOURCE_DEM_DATE: 1997 01 01
AGENCY: WESTERN MAPPING CENTER (WMC)
PRODUCER: UNDEFINED
PRODUCTION_SYSTEM: GIS/MAGIC
COMPRESSION: UNDEFINED
STANDARD_VERSION: 1996 12
METADATA_DATE: 1997 11 13
DATA_FILE_SIZE: 42395936
BYTE_COUNT: 5602
