FILENAME: O4511162.NWS.830113.tif
QUADRANGLE_NAME: LINCOLN MOUNTAIN
QUADRANT: NW
WEST_LONGITUDE: -111 22 30.00000
EAST_LONGITUDE: -111 18 45.00000
NORTH_LATITUDE: 45 7 30.00000
SOUTH_LATITUDE: 45 3 45.00000
PRODUCTION_DATE: 1997 11 4
RASTER_ORDER: LEFT_RIGHT/TOP_BOTTOM
BAND_ORGANIZATION: SINGLE FILE
BAND_CONTENT: BLACK&WHITE
BAND_CONTENT: UNDEFINED
BAND_CONTENT: UNDEFINED
BITS_PER_PIXEL: 8
SAMPLES_AND_LINES: 5612 7574
HORIZONTAL_DATUM: NAD83
HORIZONTAL_COORDINATE_SYSTEM: UTM
COORDINATE_ZONE: 12
HORIZONTAL_UNITS: METERS
HORIZONTAL_RESOLUTION: 1.00000
SECONDARY_HORIZONTAL_DATUM: NAD27
XY_ORIGIN: 470113.00000 4997205.00000
SECONDARY_XY_ORIGIN: 470174.41200 4996995.39900
NATION: US
NATION: "SCIENCE
STATE: MT
NW_QUAD_CORNER_XY: 470508.59900 4996904.86000
NE_QUAD_CORNER_XY: 475423.83300 4996883.96300
SE_QUAD_CORNERY_XY: 475397.01100 4989940.89100
SW_QUAD_CORNER_XY: 470476.41400 4989961.78800
SECONDARY_NW_QUAD_XY: 470507.72600 4996687.56200
SECONDARY_NE_QUAD_XY: 475423.10500 4996666.66400
SECONDARY_SE_QUAD_XY: 475396.28400 4989723.64600
SECONDARY_SW_QUAD_XY: 470475.54100 4989744.54400
RMSE_XY: 1.90000
IMAGE_SOURCE: BLACK AND WHITE FILM
SOURCE_IMAGE_ID: NAPP 8374 016
SOURCE_IMAGE_DATE: 1995 08 12
SOURCE_DEM_DATE: 1997 01 01
AGENCY: WESTERN MAPPING CENTER (WMC)
PRODUCER: UNDEFINED
PRODUCTION_SYSTEM: GIS/MAGIC
COMPRESSION: UNDEFINED
STANDARD_VERSION: 1996 12
METADATA_DATE: 1997 11 13
DATA_FILE_SIZE: 42510900
BYTE_COUNT: 5612
