FILENAME: O4511162.SWS.830115.tif
QUADRANGLE_NAME: LINCOLN MOUNTAIN
QUADRANT: SW
WEST_LONGITUDE: -111 22 30.00000
EAST_LONGITUDE: -111 18 45.00000
NORTH_LATITUDE: 45 3 45.00000
SOUTH_LATITUDE: 45 0 0.00000
PRODUCTION_DATE: 1997 11 4
RASTER_ORDER: LEFT_RIGHT/TOP_BOTTOM
BAND_ORGANIZATION: SINGLE FILE
BAND_CONTENT: BLACK&WHITE
BAND_CONTENT: UNDEFINED
BAND_CONTENT: UNDEFINED
BITS_PER_PIXEL: 8
SAMPLES_AND_LINES: 5619 7574
HORIZONTAL_DATUM: NAD83
HORIZONTAL_COORDINATE_SYSTEM: UTM
COORDINATE_ZONE: 12
HORIZONTAL_UNITS: METERS
HORIZONTAL_RESOLUTION: 1.00000
SECONDARY_HORIZONTAL_DATUM: NAD27
XY_ORIGIN: 470080.00000 4990262.00000
SECONDARY_XY_ORIGIN: 470141.45200 4990052.48000
NATION: US
NATION: "SCIENCE
STATE: MT
NW_QUAD_CORNER_XY: 470476.41400 4989961.78800
NE_QUAD_CORNER_XY: 475397.01100 4989940.89100
SE_QUAD_CORNERY_XY: 475370.22000 4982997.89500
SW_QUAD_CORNER_XY: 470444.26400 4983018.79200
SECONDARY_NW_QUAD_XY: 470475.54100 4989744.54400
SECONDARY_NE_QUAD_XY: 475396.28400 4989723.64600
SECONDARY_SE_QUAD_XY: 475369.49300 4982780.70500
SECONDARY_SW_QUAD_XY: 470443.39100 4982801.60400
RMSE_XY: 1.50000
IMAGE_SOURCE: BLACK AND WHITE FILM
SOURCE_IMAGE_ID: NAPP 8374 014
SOURCE_IMAGE_DATE: 1995 08 12
SOURCE_DEM_DATE: 1997 01 01
AGENCY: WESTERN MAPPING CENTER (WMC)
PRODUCER: UNDEFINED
PRODUCTION_SYSTEM: GIS/MAGIC
COMPRESSION: UNDEFINED
STANDARD_VERSION: 1996 12
METADATA_DATE: 1997 11 13
DATA_FILE_SIZE: 42563925
BYTE_COUNT: 5619
